Felt | Verdi |
AlreadyApplied | True |
Aperture | 5.6 |
ApertureValue | 5.6 |
ApproximateFocusDistance | 0.67 |
AutoLateralCA | 0 |
AutoWhiteVersion | 134348800 |
BitsPerSample | 8 |
Blacks2012 | -2 |
BlueHue | 0 |
BlueSaturation | 0 |
CameraProfile | Adobe Standard |
CircleOfConfusion | 0.019 mm |
Clarity2012 | +31 |
ColorComponents | 3 |
ColorMode | RGB |
ColorNoiseReduction | 25 |
ColorNoiseReductionDetail | 50 |
ColorNoiseReductionSmoothness | 50 |
ColorSpace | sRGB |
ColorTemperature | 5500 |
ColorTransform | YCbCr |
Contrast2012 | +40 |
ConvertToGrayscale | False |
Copyright | © Beate Nilsen |
CopyrightFlag | True |
CopyrightNotice | © Beate Nilsen |
CreateDate (1) | 2014:06:22 00:48:43+02:00 |
CreateDate | 2014:05:18 14:43:03 |
CreatorTool | Adobe Photoshop CS2 Windows |
CreatorWorkEmail | beate_nilsen@yahoo.no |
CropAngle | 0 |
CropBottom | 1 |
CropConstrainToWarp | 0 |
CropLeft | 0 |
CropRight | 0.906188 |
CropTop | 0.05988 |
CustomRendered | Normal |
DateCreated | 2014:05:18 |
DateTimeDigitized | 2014:05:18 14:43:03+02:00 |
DateTimeOriginal (1) | 2014:05:18 14:43:03+02:00 |
DateTimeOriginal | 2014:05:18 14:43:03 |
DefringeGreenAmount | 0 |
DefringeGreenHueHi | 60 |
DefringeGreenHueLo | 40 |
DefringePurpleAmount | 0 |
DefringePurpleHueHi | 70 |
DefringePurpleHueLo | 30 |
DOF | 0.03 m (0.65 - 0.69 m) |
ExifImageHeight | 657 |
ExifImageWidth | 950 |
Exposure2012 | -1.55 |
ExposureCompensation | 0 |
ExposureMode | Manual |
ExposureProgram | Manual |
ExposureTime | 1/100 |
Firmware | 1.1.1 |
Flash | Off, Did not fire |
FlashCompensation | 0 |
FlashFired | False |
FlashFunction | False |
FlashMode | Off |
FlashRedEyeMode | False |
FlashReturn | No return detection |
FNumber | 5.6 |
FocalLength | 52.0 mm |
FocalLength35efl | 52.0 mm (35 mm equivalent: 82.4 mm) |
Format | image/jpeg |
FOV | 24.6 deg |
GrainAmount | 0 |
GreenHue | 0 |
GreenSaturation | 0 |
HasCrop | True |
HasSettings | True |
Highlights2012 | -100 |
HueAdjustmentAqua | 0 |
HueAdjustmentBlue | 0 |
HueAdjustmentGreen | 0 |
HueAdjustmentMagenta | 0 |
HueAdjustmentOrange | 0 |
HueAdjustmentPurple | 0 |
HueAdjustmentRed | 0 |
HueAdjustmentYellow | 0 |
HyperfocalDistance | 25.46 m |
ICCProfileName | sRGB IEC61966-2.1 |
ImageHeight | 657 |
ImageNumber | 0 |
ImageSize | 950x657 |
ImageWidth | 950 |
ISO | 100 |
Keywords | 2014, Nygårdsjøen, mai |
Lens | EF-S18-55mm f/3.5-5.6 IS STM |
LensID (1) | 4146 |
LensID | Canon EF-S 18-55mm f/3.5-5.6 IS STM |
LensInfo | 18-55mm f/? |
LensManualDistortionAmount | 0 |
LensModel | EF-S18-55mm f/3.5-5.6 IS STM |
LensProfileEnable | 0 |
LensProfileSetup | LensDefaults |
LensSerialNumber | 000026b53a |
LightValue | 11.6 |
LuminanceAdjustmentAqua | 0 |
LuminanceAdjustmentBlue | 0 |
LuminanceAdjustmentGreen | 0 |
LuminanceAdjustmentMagenta | 0 |
LuminanceAdjustmentOrange | 0 |
LuminanceAdjustmentPurple | 0 |
LuminanceAdjustmentRed | 0 |
LuminanceAdjustmentYellow | 0 |
LuminanceSmoothing | 0 |
Make | Canon |
Marked | True |
MaxApertureValue | 5.7 |
Megapixels | 0.624 |
MeteringMode | Multi-segment |
Model | Canon EOS 700D |
ModifyDate (1) | 2014:06:22 00:49:09+02:00 |
ModifyDate | 2014:06:22 00:49:09 |
Orientation | Horizontal (normal) |
ParametricDarks | 0 |
ParametricHighlights | 0 |
ParametricHighlightSplit | 75 |
ParametricLights | 0 |
ParametricMidtoneSplit | 50 |
ParametricShadows | 0 |
ParametricShadowSplit | 25 |
PerspectiveAspect | 0 |
PerspectiveHorizontal | 0 |
PerspectiveRotate | 0.0 |
PerspectiveScale | 100 |
PerspectiveUpright | 0 |
PerspectiveVertical | 0 |
PostCropVignetteAmount | 0 |
ProcessVersion | 6.7 |
ProfileDescription | sRGB IEC61966-2.1 |
RecommendedExposureIndex | 100 |
RedHue | 0 |
RedSaturation | 0 |
Rights | © Beate Nilsen |
Saturation | +12 |
SaturationAdjustmentAqua | 0 |
SaturationAdjustmentBlue | 0 |
SaturationAdjustmentGreen | 0 |
SaturationAdjustmentMagenta | 0 |
SaturationAdjustmentOrange | 0 |
SaturationAdjustmentPurple | 0 |
SaturationAdjustmentRed | 0 |
SaturationAdjustmentYellow | 0 |
ScaleFactor35efl | 1.6 |
SceneCaptureType | Standard |
SensitivityType | Recommended Exposure Index |
SerialNumber | 053031025490 |
Shadows2012 | +100 |
ShadowTint | 0 |
SharpenDetail | 25 |
SharpenEdgeMasking | 0 |
SharpenRadius | +1.0 |
Sharpness | 25 |
ShutterSpeed | 1/100 |
ShutterSpeedValue | 1/100 |
Software | Adobe Photoshop CS2 Windows |
SplitToningBalance | 0 |
SplitToningHighlightHue | 0 |
SplitToningHighlightSaturation | 0 |
SplitToningShadowHue | 0 |
SplitToningShadowSaturation | 0 |
Subject | 2014, Nygårdsjøen, mai |
Tint | +10 |
ToneCurve | 0, 0, 255, 255 |
ToneCurveBlue | 0, 0, 255, 255 |
ToneCurveGreen | 0, 0, 255, 255 |
ToneCurveName | Linear |
ToneCurveName2012 | Linear |
ToneCurvePV2012 | 0, 0, 255, 255 |
ToneCurvePV2012Blue | 0, 0, 255, 255 |
ToneCurvePV2012Green | 0, 0, 255, 255 |
ToneCurvePV2012Red | 0, 0, 255, 255 |
ToneCurveRed | 0, 0, 255, 255 |
URL_List | |
Version | 8.4 |
Vibrance | +5 |
VignetteAmount | 0 |
WhiteBalance (1) | Daylight |
WhiteBalance | Auto |
Whites2012 | +48 |