Felt | Verdi |
AlreadyApplied | True |
Aperture | 16.0 |
ApertureValue | 16.0 |
ApproximateFocusDistance | 4294967295 |
Artist | Vidar Lotveit |
AutoLateralCA | 1 |
AutoWhiteVersion | 134348800 |
BitsPerSample | 8 |
Blacks2012 | -17 |
BlueHue | 0 |
BlueSaturation | 0 |
By-line | Vidar Lotveit |
CameraProfile | Adobe Standard |
CircleOfConfusion | 0.031 mm |
Clarity2012 | +24 |
ColorComponents | 3 |
ColorNoiseReduction | 100 |
ColorNoiseReductionDetail | 0 |
ColorNoiseReductionSmoothness | 100 |
ColorSpace | sRGB |
ColorTemperature | 4976 |
ColorTransform | YCbCr |
Contrast2012 | +29 |
ConvertToGrayscale | False |
CreateDate (1) | 2015:04:08 19:14:27.45 |
CreateDate | 2015:04:08 19:14:27 |
Creator | Vidar Lotveit |
CreatorTool | Adobe Photoshop Lightroom 5.6 (Windows) |
CropAngle | 0 |
CropBottom | 0.754137 |
CropConstrainToWarp | 0 |
CropLeft | 0 |
CropRight | 1 |
CropTop | 0.125296 |
CustomRendered | Normal |
DateCreated (1) | 2015:04:08 |
DateCreated | 2015:04:08 19:14:27.45 |
DateTimeOriginal | 2015:04:08 19:14:27 |
DefringeGreenAmount | 0 |
DefringeGreenHueHi | 60 |
DefringeGreenHueLo | 40 |
DefringePurpleAmount | 0 |
DefringePurpleHueHi | 70 |
DefringePurpleHueLo | 30 |
DOF | inf (0.52 m - inf) |
Exposure2012 | +0.24 |
ExposureCompensation | 0 |
ExposureMode | Manual |
ExposureProgram | Manual |
ExposureTime | 30 |
Firmware | 2.1.2 |
Flash | Off, Did not fire |
FlashCompensation | 0 |
FNumber | 16.0 |
FocalLength | 16.0 mm |
FocalLength35efl | 16.0 mm (35 mm equivalent: 15.6 mm) |
Format | image/jpeg |
FOV | 98.1 deg |
GradientBasedCorrActive | true |
GradientBasedCorrAmount | 1.000000 |
GradientBasedCorrBrightness | 0.000000 |
GradientBasedCorrClarity2012 | 0.000000 |
GradientBasedCorrContrast2012 | 0.285710 |
GradientBasedCorrDefringe | 0.000000 |
GradientBasedCorrExposure2012 | 0.000000 |
GradientBasedCorrHighlights2012 | -0.357140 |
GradientBasedCorrHue | 0.000000 |
GradientBasedCorrLuminanceNoise | 0.000000 |
GradientBasedCorrMaskFullX | 0.500240 |
GradientBasedCorrMaskFullY | 0.094433 |
GradientBasedCorrMaskValue | 1.000000 |
GradientBasedCorrMaskWhat | Mask/Gradient |
GradientBasedCorrMaskZeroX | 0.495099 |
GradientBasedCorrMaskZeroY | 0.758561 |
GradientBasedCorrMoire | 0.000000 |
GradientBasedCorrSaturation (1) | 0.285710 |
GradientBasedCorrSaturation | 0.000000 |
GradientBasedCorrShadows2012 | 0.238100 |
GradientBasedCorrSharpness | 0.000000 |
GradientBasedCorrTemperature | 0.000000 |
GradientBasedCorrTint | 0.000000 |
GradientBasedCorrWhat | Correction |
GrainAmount | 0 |
GreenHue | 0 |
GreenSaturation | 0 |
HasCrop | True |
HasExtendedXMP | 8C537E2AE281988932406514CAC53769 |
HasSettings | True |
Highlights2012 | -100 |
HueAdjustmentAqua | 0 |
HueAdjustmentBlue | 0 |
HueAdjustmentGreen | 0 |
HueAdjustmentMagenta | 0 |
HueAdjustmentOrange | 0 |
HueAdjustmentPurple | 0 |
HueAdjustmentRed | 0 |
HueAdjustmentYellow | 0 |
HyperfocalDistance | 0.52 m |
ImageHeight | 2354 |
ImageNumber | 0 |
ImageSize | 5615x2354 |
ImageWidth | 5615 |
ISO | 100 |
Lens | EF16-35mm f/2.8L II USM |
LensID (1) | 246 |
LensID | Canon EF 16-35mm f/2.8L II USM |
LensInfo | 16-35mm f/? |
LensManualDistortionAmount | 0 |
LensModel | EF16-35mm f/2.8L II USM |
LensProfileChromaticAberrationScale | 100 |
LensProfileDistortionScale | 100 |
LensProfileEnable | 1 |
LensProfileFilename | Canon EOS 5D Mark II (Canon EF 16-35mm f2.8 L II USM) - RAW.lcp |
LensProfileName | Adobe (Canon EF 16-35mm f/2.8 L II USM) |
LensProfileSetup | LensDefaults |
LensProfileVignettingScale | 100 |
LightValue | 3.1 |
LuminanceAdjustmentAqua | 0 |
LuminanceAdjustmentBlue | 0 |
LuminanceAdjustmentGreen | 0 |
LuminanceAdjustmentMagenta | 0 |
LuminanceAdjustmentOrange | 0 |
LuminanceAdjustmentPurple | 0 |
LuminanceAdjustmentRed | 0 |
LuminanceAdjustmentYellow | 0 |
LuminanceNoiseReductionContrast | 0 |
LuminanceNoiseReductionDetail | 50 |
LuminanceSmoothing | 50 |
Make | Canon |
MaxApertureValue | 2.8 |
Megapixels | 13.2 |
MeteringMode | Multi-segment |
Model | Canon EOS 5D Mark II |
ModifyDate (1) | 2015:04:09 00:10:44+02:00 |
ModifyDate | 2015:04:09 00:10:44 |
OwnerName | Vidar Lotveit |
PaintCorrectionActive | true |
PaintCorrectionAmount | 1.000000 |
PaintCorrectionBrightness | 0.000000 |
PaintCorrectionClarity2012 | 0.000000 |
PaintCorrectionContrast2012 | 0.000000 |
PaintCorrectionDefringe | 0.000000 |
PaintCorrectionExposure2012 (1) | 0.404750 |
PaintCorrectionExposure2012 (2) | 0.381000 |
PaintCorrectionExposure2012 (3) | 0.357250 |
PaintCorrectionExposure2012 | -0.119000 |
PaintCorrectionHighlights2012 | 0.000000 |
PaintCorrectionHue | 0.000000 |
PaintCorrectionLuminanceNoise | 0.000000 |
PaintCorrectionMaskCenterWeight | 0.000000 |
PaintCorrectionMaskFlow | 0.620000 |
PaintCorrectionMaskRadius (1) | 0.043303 |
PaintCorrectionMaskRadius (10) | 0.041483 |
PaintCorrectionMaskRadius (100) | 0.019222 |
PaintCorrectionMaskRadius (102) | 0.019231 |
PaintCorrectionMaskRadius (103) | 0.019195 |
PaintCorrectionMaskRadius (104) | 0.019192 |
PaintCorrectionMaskRadius (105) | 0.018996 |
PaintCorrectionMaskRadius (106) | 0.018919 |
PaintCorrectionMaskRadius (107) | 0.018992 |
PaintCorrectionMaskRadius (108) | 0.018944 |
PaintCorrectionMaskRadius (109) | 0.019268 |
PaintCorrectionMaskRadius (11) | 0.041691 |
PaintCorrectionMaskRadius (110) | 0.019203 |
PaintCorrectionMaskRadius (112) | 0.019119 |
PaintCorrectionMaskRadius (113) | 0.019128 |
PaintCorrectionMaskRadius (114) | 0.019127 |
PaintCorrectionMaskRadius (115) | 0.019103 |
PaintCorrectionMaskRadius (116) | 0.019097 |
PaintCorrectionMaskRadius (117) | 0.019194 |
PaintCorrectionMaskRadius (119) | 0.019185 |
PaintCorrectionMaskRadius (12) | 0.041728 |
PaintCorrectionMaskRadius (120) | 0.019092 |
PaintCorrectionMaskRadius (121) | 0.019202 |
PaintCorrectionMaskRadius (122) | 0.019187 |
PaintCorrectionMaskRadius (123) | 0.018997 |
PaintCorrectionMaskRadius (124) | 0.018986 |
PaintCorrectionMaskRadius (126) | 0.013190 |
PaintCorrectionMaskRadius (127) | 0.013188 |
PaintCorrectionMaskRadius (128) | 0.013177 |
PaintCorrectionMaskRadius (129) | 0.013216 |
PaintCorrectionMaskRadius (13) | 0.042734 |
PaintCorrectionMaskRadius (130) | 0.013462 |
PaintCorrectionMaskRadius (132) | 0.013451 |
PaintCorrectionMaskRadius (133) | 0.013448 |
PaintCorrectionMaskRadius (134) | 0.013317 |
PaintCorrectionMaskRadius (135) | 0.013235 |
PaintCorrectionMaskRadius (136) | 0.013182 |
PaintCorrectionMaskRadius (137) | 0.013210 |
PaintCorrectionMaskRadius (139) | 0.012922 |
PaintCorrectionMaskRadius (14) | 0.042599 |
PaintCorrectionMaskRadius (140) | 0.012779 |
PaintCorrectionMaskRadius (141) | 0.012780 |
PaintCorrectionMaskRadius (142) | 0.012775 |
PaintCorrectionMaskRadius (143) | 0.012778 |
PaintCorrectionMaskRadius (144) | 0.092745 |
PaintCorrectionMaskRadius (145) | 0.216448 |
PaintCorrectionMaskRadius (146) | 0.216693 |
PaintCorrectionMaskRadius (147) | 0.215763 |
PaintCorrectionMaskRadius (148) | 0.216515 |
PaintCorrectionMaskRadius (149) | 0.066437 |
PaintCorrectionMaskRadius (15) | 0.041539 |
PaintCorrectionMaskRadius (150) | 0.066527 |
PaintCorrectionMaskRadius (151) | 0.029684 |
PaintCorrectionMaskRadius (152) | 0.029776 |
PaintCorrectionMaskRadius (153) | 0.029633 |
PaintCorrectionMaskRadius (154) | 0.029708 |
PaintCorrectionMaskRadius (155) | 0.029612 |
PaintCorrectionMaskRadius (156) | 0.029714 |
PaintCorrectionMaskRadius (157) | 0.029657 |
PaintCorrectionMaskRadius (158) | 0.029780 |
PaintCorrectionMaskRadius (159) | 0.029676 |
PaintCorrectionMaskRadius (16) | 0.041651 |
PaintCorrectionMaskRadius (160) | 0.029638 |
PaintCorrectionMaskRadius (161) | 0.018284 |
PaintCorrectionMaskRadius (162) | 0.018231 |
PaintCorrectionMaskRadius (163) | 0.018328 |
PaintCorrectionMaskRadius (17) | 0.041530 |
PaintCorrectionMaskRadius (18) | 0.043117 |
PaintCorrectionMaskRadius (19) | 0.042594 |
PaintCorrectionMaskRadius (2) | 0.043464 |
PaintCorrectionMaskRadius (20) | 0.043408 |
PaintCorrectionMaskRadius (21) | 0.043951 |
PaintCorrectionMaskRadius (22) | 0.043901 |
PaintCorrectionMaskRadius (23) | 0.043265 |
PaintCorrectionMaskRadius (24) | 0.043696 |
PaintCorrectionMaskRadius (25) | 0.043667 |
PaintCorrectionMaskRadius (26) | 0.043527 |
PaintCorrectionMaskRadius (27) | 0.043533 |
PaintCorrectionMaskRadius (28) | 0.042013 |
PaintCorrectionMaskRadius (29) | 0.041716 |
PaintCorrectionMaskRadius (3) | 0.042150 |
PaintCorrectionMaskRadius (30) | 0.041804 |
PaintCorrectionMaskRadius (31) | 0.087693 |
PaintCorrectionMaskRadius (32) | 0.086636 |
PaintCorrectionMaskRadius (33) | 0.086326 |
PaintCorrectionMaskRadius (34) | 0.086517 |
PaintCorrectionMaskRadius (35) | 0.037350 |
PaintCorrectionMaskRadius (36) | 0.037050 |
PaintCorrectionMaskRadius (37) | 0.036335 |
PaintCorrectionMaskRadius (38) | 0.035760 |
PaintCorrectionMaskRadius (39) | 0.035582 |
PaintCorrectionMaskRadius (4) | 0.043422 |
PaintCorrectionMaskRadius (40) | 0.036152 |
PaintCorrectionMaskRadius (41) | 0.035810 |
PaintCorrectionMaskRadius (43) | 0.018226 |
PaintCorrectionMaskRadius (44) | 0.018321 |
PaintCorrectionMaskRadius (45) | 0.048210 |
PaintCorrectionMaskRadius (46) | 0.037601 |
PaintCorrectionMaskRadius (47) | 0.037454 |
PaintCorrectionMaskRadius (48) | 0.036390 |
PaintCorrectionMaskRadius (49) | 0.036305 |
PaintCorrectionMaskRadius (5) | 0.041889 |
PaintCorrectionMaskRadius (50) | 0.036417 |
PaintCorrectionMaskRadius (51) | 0.036516 |
PaintCorrectionMaskRadius (52) | 0.036398 |
PaintCorrectionMaskRadius (53) | 0.036590 |
PaintCorrectionMaskRadius (54) | 0.036321 |
PaintCorrectionMaskRadius (55) | 0.036239 |
PaintCorrectionMaskRadius (56) | 0.036197 |
PaintCorrectionMaskRadius (57) | 0.036529 |
PaintCorrectionMaskRadius (58) | 0.036514 |
PaintCorrectionMaskRadius (59) | 0.037051 |
PaintCorrectionMaskRadius (6) | 0.042850 |
PaintCorrectionMaskRadius (60) | 0.037401 |
PaintCorrectionMaskRadius (61) | 0.035872 |
PaintCorrectionMaskRadius (62) | 0.036060 |
PaintCorrectionMaskRadius (63) | 0.035800 |
PaintCorrectionMaskRadius (64) | 0.035585 |
PaintCorrectionMaskRadius (65) | 0.036805 |
PaintCorrectionMaskRadius (66) | 0.036934 |
PaintCorrectionMaskRadius (68) | 0.037134 |
PaintCorrectionMaskRadius (69) | 0.037392 |
PaintCorrectionMaskRadius (7) | 0.042683 |
PaintCorrectionMaskRadius (70) | 0.037304 |
PaintCorrectionMaskRadius (71) | 0.037037 |
PaintCorrectionMaskRadius (72) | 0.036563 |
PaintCorrectionMaskRadius (73) | 0.036337 |
PaintCorrectionMaskRadius (74) | 0.036226 |
PaintCorrectionMaskRadius (75) | 0.036138 |
PaintCorrectionMaskRadius (76) | 0.037434 |
PaintCorrectionMaskRadius (77) | 0.036949 |
PaintCorrectionMaskRadius (78) | 0.036127 |
PaintCorrectionMaskRadius (79) | 0.035630 |
PaintCorrectionMaskRadius (8) | 0.043709 |
PaintCorrectionMaskRadius (80) | 0.035671 |
PaintCorrectionMaskRadius (81) | 0.035997 |
PaintCorrectionMaskRadius (82) | 0.036176 |
PaintCorrectionMaskRadius (83) | 0.035641 |
PaintCorrectionMaskRadius (84) | 0.035844 |
PaintCorrectionMaskRadius (85) | 0.036503 |
PaintCorrectionMaskRadius (86) | 0.037254 |
PaintCorrectionMaskRadius (87) | 0.036985 |
PaintCorrectionMaskRadius (88) | 0.037068 |
PaintCorrectionMaskRadius (89) | 0.036108 |
PaintCorrectionMaskRadius (9) | 0.041683 |
PaintCorrectionMaskRadius (90) | 0.036009 |
PaintCorrectionMaskRadius (91) | 0.035744 |
PaintCorrectionMaskRadius (92) | 0.035868 |
PaintCorrectionMaskRadius (93) | 0.018392 |
PaintCorrectionMaskRadius (94) | 0.019277 |
PaintCorrectionMaskRadius (95) | 0.019269 |
PaintCorrectionMaskRadius (96) | 0.035614 |
PaintCorrectionMaskRadius (97) | 0.035508 |
PaintCorrectionMaskRadius (98) | 0.036708 |
PaintCorrectionMaskRadius (99) | 0.037245 |
PaintCorrectionMaskRadius | 0.018266 |
PaintCorrectionMaskValue | 1.000000 |
PaintCorrectionMaskWhat | Mask/Paint |
PaintCorrectionMoire | 0.000000 |
PaintCorrectionSaturation (3) | 0.023810 |
PaintCorrectionSaturation | 0.000000 |
PaintCorrectionShadows2012 | 0.000000 |
PaintCorrectionSharpness | 0.000000 |
PaintCorrectionTemperature | 0.095240 |
PaintCorrectionTint | 0.000000 |
PaintCorrectionWhat | Correction |
ParametricDarks | 0 |
ParametricHighlights | 0 |
ParametricHighlightSplit | 75 |
ParametricLights | 0 |
ParametricMidtoneSplit | 50 |
ParametricShadows | 0 |
ParametricShadowSplit | 25 |
PerspectiveAspect | 0 |
PerspectiveHorizontal | 0 |
PerspectiveRotate | 0.0 |
PerspectiveScale | 100 |
PerspectiveUpright | 1 |
PerspectiveVertical | 0 |
PostCropVignetteAmount | -17 |
PostCropVignetteFeather | 50 |
PostCropVignetteHighlightContrast | 0 |
PostCropVignetteMidpoint | 50 |
PostCropVignetteRoundness | 0 |
PostCropVignetteStyle | 1 |
ProcessVersion | 6.7 |
ProfileDescription | sRGB IEC61966-2.1 |
RedHue | 0 |
RedSaturation | 0 |
Saturation | 0 |
SaturationAdjustmentAqua | 0 |
SaturationAdjustmentBlue | 0 |
SaturationAdjustmentGreen | 0 |
SaturationAdjustmentMagenta | 0 |
SaturationAdjustmentOrange | 0 |
SaturationAdjustmentPurple | 0 |
SaturationAdjustmentRed | 0 |
SaturationAdjustmentYellow | 0 |
ScaleFactor35efl | 1.0 |
SceneCaptureType | Standard |
SerialNumber | 1330824139 |
Shadows2012 | +50 |
ShadowTint | 0 |
SharpenDetail | 25 |
SharpenEdgeMasking | 0 |
SharpenRadius | +1.0 |
Sharpness | 71 |
ShutterSpeed | 30 |
ShutterSpeedValue | 30 |
Software | Adobe Photoshop Lightroom 5.6 (Windows) |
SplitToningBalance | 0 |
SplitToningHighlightHue | 0 |
SplitToningHighlightSaturation | 0 |
SplitToningShadowHue | 0 |
SplitToningShadowSaturation | 0 |
Tint | +11 |
ToneCurve | 0, 0, 255, 255 |
ToneCurveBlue | 0, 0, 255, 255 |
ToneCurveGreen | 0, 0, 255, 255 |
ToneCurveName | Linear |
ToneCurveName2012 | Linear |
ToneCurvePV2012 | 0, 0, 255, 255 |
ToneCurvePV2012Blue | 0, 0, 255, 255 |
ToneCurvePV2012Green | 0, 0, 255, 255 |
ToneCurvePV2012Red | 0, 0, 255, 255 |
ToneCurveRed | 0, 0, 255, 255 |
Version | 8.6 |
Vibrance | +29 |
VignetteAmount | 0 |
WhiteBalance (1) | Custom |
WhiteBalance | Manual |
Whites2012 | +40 |