Felt | Verdi |
AlreadyApplied | True |
Aperture | 14.0 |
ApertureValue | 14.0 |
ApproximateFocusDistance | 4294967295 |
Artist | Vidar Lotveit |
AutoLateralCA | 1 |
AutoWhiteVersion | 134348800 |
BitsPerSample | 8 |
Blacks2012 | -7 |
BlueHue | 0 |
BlueSaturation | 0 |
By-line | Vidar Lotveit |
CameraProfile | Adobe Standard |
CircleOfConfusion | 0.031 mm |
Clarity2012 | +24 |
ColorComponents | 3 |
ColorNoiseReduction | 75 |
ColorNoiseReductionDetail | 50 |
ColorNoiseReductionSmoothness | 100 |
ColorSpace | sRGB |
ColorTemperature | 6762 |
ColorTransform | YCbCr |
Contrast2012 | +12 |
ConvertToGrayscale | False |
CreateDate (1) | 2015:04:12 18:51:02.65 |
CreateDate | 2015:04:12 18:51:02 |
Creator | Vidar Lotveit |
CreatorTool | Adobe Photoshop Lightroom 5.6 (Windows) |
CropAngle | 0 |
CropBottom | 0.678487 |
CropConstrainToWarp | 0 |
CropLeft | 0 |
CropRight | 1 |
CropTop | 0 |
CustomRendered | Normal |
DateCreated (1) | 2015:04:12 |
DateCreated | 2015:04:12 18:51:02.65 |
DateTimeOriginal | 2015:04:12 18:51:02 |
DefringeGreenAmount | 0 |
DefringeGreenHueHi | 60 |
DefringeGreenHueLo | 40 |
DefringePurpleAmount | 0 |
DefringePurpleHueHi | 70 |
DefringePurpleHueLo | 30 |
DOF | inf (0.59 m - inf) |
Exposure2012 | 0.00 |
ExposureCompensation | 0 |
ExposureMode | Manual |
ExposureProgram | Manual |
ExposureTime | 30 |
Firmware | 2.1.2 |
Flash | Off, Did not fire |
FlashCompensation | 0 |
FNumber | 14.0 |
FocalLength | 16.0 mm |
FocalLength35efl | 16.0 mm (35 mm equivalent: 15.6 mm) |
Format | image/jpeg |
FOV | 98.1 deg |
GradientBasedCorrActive | true |
GradientBasedCorrAmount | 1.000000 |
GradientBasedCorrBrightness | 0.000000 |
GradientBasedCorrClarity2012 | 0.000000 |
GradientBasedCorrContrast2012 | 0.000000 |
GradientBasedCorrDefringe | 0.000000 |
GradientBasedCorrExposure2012 | -0.166750 |
GradientBasedCorrHighlights2012 | 0.000000 |
GradientBasedCorrHue | 0.000000 |
GradientBasedCorrLuminanceNoise | 0.000000 |
GradientBasedCorrMaskFullX | 0.478057 |
GradientBasedCorrMaskFullY | -0.019767 |
GradientBasedCorrMaskValue | 1.000000 |
GradientBasedCorrMaskWhat | Mask/Gradient |
GradientBasedCorrMaskZeroX | 0.471884 |
GradientBasedCorrMaskZeroY | 0.677385 |
GradientBasedCorrMoire | 0.000000 |
GradientBasedCorrSaturation | 0.000000 |
GradientBasedCorrShadows2012 | 0.000000 |
GradientBasedCorrSharpness | 0.000000 |
GradientBasedCorrTemperature | 0.000000 |
GradientBasedCorrTint | 0.000000 |
GradientBasedCorrWhat | Correction |
GrainAmount | 0 |
GreenHue | 0 |
GreenSaturation | 0 |
HasCrop | True |
HasExtendedXMP | BFF30BDDB629B5955724AB883A787203 |
HasSettings | True |
Highlights2012 | -74 |
HueAdjustmentAqua | 0 |
HueAdjustmentBlue | 0 |
HueAdjustmentGreen | 0 |
HueAdjustmentMagenta | 0 |
HueAdjustmentOrange | 0 |
HueAdjustmentPurple | 0 |
HueAdjustmentRed | 0 |
HueAdjustmentYellow | 0 |
HyperfocalDistance | 0.59 m |
ImageHeight | 2540 |
ImageNumber | 0 |
ImageSize | 5615x2540 |
ImageWidth | 5615 |
ISO | 100 |
Lens | EF16-35mm f/2.8L II USM |
LensID (1) | 246 |
LensID | Canon EF 16-35mm f/2.8L II USM |
LensInfo | 16-35mm f/? |
LensManualDistortionAmount | 0 |
LensModel | EF16-35mm f/2.8L II USM |
LensProfileChromaticAberrationScale | 100 |
LensProfileDistortionScale | 100 |
LensProfileEnable | 1 |
LensProfileFilename | Canon EOS 5D Mark II (Canon EF 16-35mm f2.8 L II USM) - RAW.lcp |
LensProfileName | Adobe (Canon EF 16-35mm f/2.8 L II USM) |
LensProfileSetup | LensDefaults |
LensProfileVignettingScale | 100 |
LightValue | 2.7 |
LuminanceAdjustmentAqua | 0 |
LuminanceAdjustmentBlue | 0 |
LuminanceAdjustmentGreen | 0 |
LuminanceAdjustmentMagenta | 0 |
LuminanceAdjustmentOrange | 0 |
LuminanceAdjustmentPurple | 0 |
LuminanceAdjustmentRed | 0 |
LuminanceAdjustmentYellow | 0 |
LuminanceNoiseReductionContrast | 0 |
LuminanceNoiseReductionDetail | 50 |
LuminanceSmoothing | 18 |
Make | Canon |
MaxApertureValue | 2.8 |
Megapixels | 14.3 |
MeteringMode | Multi-segment |
Model | Canon EOS 5D Mark II |
ModifyDate (1) | 2015:04:12 20:50:50+02:00 |
ModifyDate | 2015:04:12 20:50:50 |
OwnerName | Vidar Lotveit |
PaintCorrectionActive | true |
PaintCorrectionAmount | 1.000000 |
PaintCorrectionBrightness | 0.000000 |
PaintCorrectionClarity2012 (5) | 0.547620 |
PaintCorrectionClarity2012 | 0.000000 |
PaintCorrectionContrast2012 | 0.000000 |
PaintCorrectionDefringe | 0.000000 |
PaintCorrectionExposure2012 (1) | 0.309500 |
PaintCorrectionExposure2012 (2) | 0.119000 |
PaintCorrectionExposure2012 (3) | 0.238000 |
PaintCorrectionExposure2012 (4) | -0.142750 |
PaintCorrectionExposure2012 (5) | 0.000000 |
PaintCorrectionExposure2012 | 0.166750 |
PaintCorrectionHighlights2012 | 0.000000 |
PaintCorrectionHue | 0.000000 |
PaintCorrectionLuminanceNoise | 0.000000 |
PaintCorrectionMaskCenterWeight | 0.000000 |
PaintCorrectionMaskFlow | 0.620000 |
PaintCorrectionMaskRadius (1) | 0.083274 |
PaintCorrectionMaskRadius (10) | 0.035786 |
PaintCorrectionMaskRadius (100) | 0.018871 |
PaintCorrectionMaskRadius (101) | 0.018612 |
PaintCorrectionMaskRadius (102) | 0.018646 |
PaintCorrectionMaskRadius (103) | 0.042276 |
PaintCorrectionMaskRadius (104) | 0.040878 |
PaintCorrectionMaskRadius (105) | 0.041936 |
PaintCorrectionMaskRadius (106) | 0.042171 |
PaintCorrectionMaskRadius (107) | 0.042109 |
PaintCorrectionMaskRadius (108) | 0.042981 |
PaintCorrectionMaskRadius (109) | 0.013020 |
PaintCorrectionMaskRadius (11) | 0.036629 |
PaintCorrectionMaskRadius (110) | 0.013084 |
PaintCorrectionMaskRadius (111) | 0.013193 |
PaintCorrectionMaskRadius (112) | 0.013071 |
PaintCorrectionMaskRadius (113) | 0.013076 |
PaintCorrectionMaskRadius (114) | 0.029979 |
PaintCorrectionMaskRadius (115) | 0.029976 |
PaintCorrectionMaskRadius (116) | 0.013198 |
PaintCorrectionMaskRadius (12) | 0.036744 |
PaintCorrectionMaskRadius (13) | 0.036883 |
PaintCorrectionMaskRadius (14) | 0.037083 |
PaintCorrectionMaskRadius (15) | 0.037030 |
PaintCorrectionMaskRadius (16) | 0.035688 |
PaintCorrectionMaskRadius (17) | 0.035524 |
PaintCorrectionMaskRadius (18) | 0.035357 |
PaintCorrectionMaskRadius (19) | 0.035394 |
PaintCorrectionMaskRadius (2) | 0.082980 |
PaintCorrectionMaskRadius (20) | 0.035381 |
PaintCorrectionMaskRadius (21) | 0.035118 |
PaintCorrectionMaskRadius (22) | 0.035819 |
PaintCorrectionMaskRadius (23) | 0.035442 |
PaintCorrectionMaskRadius (24) | 0.035908 |
PaintCorrectionMaskRadius (25) | 0.030816 |
PaintCorrectionMaskRadius (26) | 0.030908 |
PaintCorrectionMaskRadius (27) | 0.030921 |
PaintCorrectionMaskRadius (28) | 0.030881 |
PaintCorrectionMaskRadius (29) | 0.029879 |
PaintCorrectionMaskRadius (3) | 0.082858 |
PaintCorrectionMaskRadius (30) | 0.018695 |
PaintCorrectionMaskRadius (31) | 0.018660 |
PaintCorrectionMaskRadius (32) | 0.018674 |
PaintCorrectionMaskRadius (33) | 0.018628 |
PaintCorrectionMaskRadius (34) | 0.018874 |
PaintCorrectionMaskRadius (35) | 0.041963 |
PaintCorrectionMaskRadius (36) | 0.043232 |
PaintCorrectionMaskRadius (37) | 0.042958 |
PaintCorrectionMaskRadius (38) | 0.043121 |
PaintCorrectionMaskRadius (39) | 0.042016 |
PaintCorrectionMaskRadius (4) | 0.083243 |
PaintCorrectionMaskRadius (40) | 0.041094 |
PaintCorrectionMaskRadius (41) | 0.041729 |
PaintCorrectionMaskRadius (42) | 0.042428 |
PaintCorrectionMaskRadius (43) | 0.041121 |
PaintCorrectionMaskRadius (44) | 0.041173 |
PaintCorrectionMaskRadius (45) | 0.042567 |
PaintCorrectionMaskRadius (46) | 0.042023 |
PaintCorrectionMaskRadius (47) | 0.042030 |
PaintCorrectionMaskRadius (48) | 0.042223 |
PaintCorrectionMaskRadius (49) | 0.042035 |
PaintCorrectionMaskRadius (5) | 0.083052 |
PaintCorrectionMaskRadius (50) | 0.042970 |
PaintCorrectionMaskRadius (51) | 0.041589 |
PaintCorrectionMaskRadius (52) | 0.018177 |
PaintCorrectionMaskRadius (53) | 0.018315 |
PaintCorrectionMaskRadius (54) | 0.018413 |
PaintCorrectionMaskRadius (55) | 0.018167 |
PaintCorrectionMaskRadius (56) | 0.018153 |
PaintCorrectionMaskRadius (57) | 0.018139 |
PaintCorrectionMaskRadius (58) | 0.018172 |
PaintCorrectionMaskRadius (59) | 0.018117 |
PaintCorrectionMaskRadius (6) | 0.035668 |
PaintCorrectionMaskRadius (60) | 0.018897 |
PaintCorrectionMaskRadius (61) | 0.019051 |
PaintCorrectionMaskRadius (62) | 0.019038 |
PaintCorrectionMaskRadius (63) | 0.018711 |
PaintCorrectionMaskRadius (64) | 0.018681 |
PaintCorrectionMaskRadius (65) | 0.018291 |
PaintCorrectionMaskRadius (66) | 0.018209 |
PaintCorrectionMaskRadius (67) | 0.018794 |
PaintCorrectionMaskRadius (69) | 0.008331 |
PaintCorrectionMaskRadius (7) | 0.035568 |
PaintCorrectionMaskRadius (70) | 0.008301 |
PaintCorrectionMaskRadius (71) | 0.008308 |
PaintCorrectionMaskRadius (72) | 0.008317 |
PaintCorrectionMaskRadius (73) | 0.008345 |
PaintCorrectionMaskRadius (74) | 0.008392 |
PaintCorrectionMaskRadius (75) | 0.008401 |
PaintCorrectionMaskRadius (76) | 0.008422 |
PaintCorrectionMaskRadius (77) | 0.008424 |
PaintCorrectionMaskRadius (78) | 0.008441 |
PaintCorrectionMaskRadius (79) | 0.008398 |
PaintCorrectionMaskRadius (8) | 0.035120 |
PaintCorrectionMaskRadius (81) | 0.008304 |
PaintCorrectionMaskRadius (82) | 0.008283 |
PaintCorrectionMaskRadius (83) | 0.008396 |
PaintCorrectionMaskRadius (84) | 0.008327 |
PaintCorrectionMaskRadius (85) | 0.008359 |
PaintCorrectionMaskRadius (86) | 0.008365 |
PaintCorrectionMaskRadius (87) | 0.008443 |
PaintCorrectionMaskRadius (88) | 0.008464 |
PaintCorrectionMaskRadius (89) | 0.008442 |
PaintCorrectionMaskRadius (9) | 0.036025 |
PaintCorrectionMaskRadius (91) | 0.008463 |
PaintCorrectionMaskRadius (92) | 0.008405 |
PaintCorrectionMaskRadius (93) | 0.008430 |
PaintCorrectionMaskRadius (94) | 0.008389 |
PaintCorrectionMaskRadius (95) | 0.036938 |
PaintCorrectionMaskRadius (96) | 0.037054 |
PaintCorrectionMaskRadius (97) | 0.035617 |
PaintCorrectionMaskRadius (98) | 0.019105 |
PaintCorrectionMaskRadius (99) | 0.018958 |
PaintCorrectionMaskRadius | 0.013065 |
PaintCorrectionMaskValue | 1.000000 |
PaintCorrectionMaskWhat | Mask/Paint |
PaintCorrectionMoire | 0.000000 |
PaintCorrectionSaturation (3) | 0.023810 |
PaintCorrectionSaturation | 0.000000 |
PaintCorrectionShadows2012 | 0.000000 |
PaintCorrectionSharpness (6) | 0.166670 |
PaintCorrectionSharpness | 0.000000 |
PaintCorrectionTemperature (1) | 0.071430 |
PaintCorrectionTemperature | 0.000000 |
PaintCorrectionTint | 0.000000 |
PaintCorrectionWhat | Correction |
ParametricDarks | 0 |
ParametricHighlights | 0 |
ParametricHighlightSplit | 75 |
ParametricLights | 0 |
ParametricMidtoneSplit | 50 |
ParametricShadows | 0 |
ParametricShadowSplit | 25 |
PerspectiveAspect | 0 |
PerspectiveHorizontal | 0 |
PerspectiveRotate | 0.0 |
PerspectiveScale | 100 |
PerspectiveUpright | 1 |
PerspectiveVertical | 0 |
PostCropVignetteAmount | -17 |
PostCropVignetteFeather | 50 |
PostCropVignetteHighlightContrast | 0 |
PostCropVignetteMidpoint | 50 |
PostCropVignetteRoundness | 0 |
PostCropVignetteStyle | 1 |
ProcessVersion | 6.7 |
ProfileDescription | sRGB IEC61966-2.1 |
RedHue | 0 |
RedSaturation | 0 |
Saturation | 0 |
SaturationAdjustmentAqua | 0 |
SaturationAdjustmentBlue | +53 |
SaturationAdjustmentGreen | 0 |
SaturationAdjustmentMagenta | 0 |
SaturationAdjustmentOrange | 0 |
SaturationAdjustmentPurple | +7 |
SaturationAdjustmentRed | 0 |
SaturationAdjustmentYellow | 0 |
ScaleFactor35efl | 1.0 |
SceneCaptureType | Standard |
SerialNumber | 1330824139 |
Shadows2012 | +62 |
ShadowTint | 0 |
SharpenDetail | 25 |
SharpenEdgeMasking | 0 |
SharpenRadius | +1.0 |
Sharpness | 87 |
ShutterSpeed | 30 |
ShutterSpeedValue | 30 |
Software | Adobe Photoshop Lightroom 5.6 (Windows) |
SplitToningBalance | 0 |
SplitToningHighlightHue | 0 |
SplitToningHighlightSaturation | 0 |
SplitToningShadowHue | 0 |
SplitToningShadowSaturation | 0 |
Tint | +7 |
ToneCurve | 0, 0, 255, 255 |
ToneCurveBlue | 0, 0, 255, 255 |
ToneCurveGreen | 0, 0, 255, 255 |
ToneCurveName | Linear |
ToneCurveName2012 | Linear |
ToneCurvePV2012 | 0, 0, 255, 255 |
ToneCurvePV2012Blue | 0, 0, 255, 255 |
ToneCurvePV2012Green | 0, 0, 255, 255 |
ToneCurvePV2012Red | 0, 0, 255, 255 |
ToneCurveRed | 0, 0, 255, 255 |
Version | 8.6 |
Vibrance | +24 |
VignetteAmount | 0 |
WhiteBalance (1) | Custom |
WhiteBalance | Manual |
Whites2012 | +19 |