Felt | Verdi |
AlreadyApplied | True |
Aperture | 6.3 |
ApertureValue | 6.3 |
ApproximateFocusDistance | 1.71 |
Artist | Fotograf : Svein Hansen |
AutoLateralCA | 1 |
AutoWhiteVersion | 134348800 |
BitsPerSample | 8 |
Blacks2012 | +13 |
BlueHue | 0 |
BlueSaturation | 0 |
By-line | Fotograf : Svein Hansen |
CameraProfile | Adobe Standard |
CircleOfConfusion | 0.023 mm |
Clarity2012 | 0 |
ColorComponents | 3 |
ColorNoiseReduction | 25 |
ColorNoiseReductionDetail | 50 |
ColorNoiseReductionSmoothness | 50 |
ColorSpace | sRGB |
ColorTemperature | 11658 |
ColorTransform | YCbCr |
Contrast2012 | 0 |
ConvertToGrayscale | True |
Copyright | © Fotograf : Svein Hansen |
CopyrightFlag | True |
CopyrightNotice | © Fotograf : Svein Hansen |
CreateDate (1) | 2015:09:06 18:33:12.75 |
CreateDate | 2015:09:06 18:33:12 |
Creator | Fotograf : Svein Hansen |
CreatorAddress | Svingen 5 |
CreatorCity | Kråkerøy |
CreatorCountry | Norge |
CreatorPostalCode | 1671 |
CreatorRegion | Østold |
CreatorTool | Adobe Photoshop Lightroom 6.1 (Windows) |
CreatorWorkEmail | post@sveinfoto.no |
CreatorWorkTelephone | 0047907+64526 |
CreatorWorkURL | www.sveinfoto.no |
CropAngle | 0 |
CropBottom | 1 |
CropConstrainToWarp | 0 |
CropLeft | 0 |
CropRight | 0.657754 |
CropTop | 0 |
CustomRendered | Normal |
DateCreated (1) | 2014:10:11 12:22:35.05 |
DateCreated | 2014:10:11 |
DateTimeOriginal | 2015:09:06 18:33:12 |
Dehaze | 0 |
DOF | 1.20 m (1.30 - 2.50 m) |
Exposure2012 | 0.00 |
ExposureCompensation | 0 |
ExposureMode | Manual |
ExposureProgram | Manual |
ExposureTime | 1/50 |
Firmware | 1.3.3 |
Flash | Off, Did not fire |
FlashCompensation | 0 |
FNumber | 6.3 |
FocalLength | 28.0 mm |
FocalLength35efl | 28.0 mm (35 mm equivalent: 35.9 mm) |
Format | image/jpeg |
FOV | 53.2 deg |
GrainAmount | 0 |
GrayMixerAqua | -18 |
GrayMixerBlue | +9 |
GrayMixerGreen | -27 |
GrayMixerMagenta | +4 |
GrayMixerOrange | -19 |
GrayMixerPurple | +15 |
GrayMixerRed | -9 |
GrayMixerYellow | -23 |
GreenHue | 0 |
GreenSaturation | 0 |
HasCrop | True |
HasSettings | True |
Headline | © Fotograf Svein Hansen |
Highlights2012 | -100 |
HyperfocalDistance | 5.31 m |
ImageHeight | 3789 |
ImageNumber | 0 |
ImageSize | 3840x3789 |
ImageWidth | 3840 |
ISO | 320 |
Keywords | Julie og Sofie |
Label | Portrett |
Lens | EF28-300mm f/3.5-5.6L IS USM |
LensID (1) | 233 |
LensID | Canon EF 28-300mm f/3.5-5.6L IS USM |
LensInfo | 28-300mm f/? |
LensManualDistortionAmount | 0 |
LensModel | EF28-300mm f/3.5-5.6L IS USM |
LensProfileChromaticAberrationScale | 100 |
LensProfileDistortionScale | 100 |
LensProfileEnable | 1 |
LensProfileFilename | Canon EOS 5D Mark II (Canon EF 28-300mm f3.5-5.6 L IS USM) - RAW.lcp |
LensProfileName | Adobe (Canon EF 28-300mm f/3.5-5.6 L IS USM) |
LensProfileSetup | LensDefaults |
LensProfileVignettingScale | 100 |
LensSerialNumber | 000020dc79 |
LightValue | 9.3 |
LuminanceSmoothing | 0 |
Make | Canon |
Marked | True |
MaxApertureValue | 3.7 |
Megapixels | 14.5 |
MeteringMode | Multi-segment |
Model | Canon EOS 5D Mark III |
ModifyDate (1) | 2015:09:08 23:20:09+02:00 |
ModifyDate | 2015:09:08 23:20:09 |
Orientation | Horizontal (normal) |
PaintCorrectionActive | true |
PaintCorrectionAmount | 1.000000 |
PaintCorrectionBrightness | 0.000000 |
PaintCorrectionClarity2012 | 0.000000 |
PaintCorrectionContrast2012 | 0.000000 |
PaintCorrectionDefringe | 0.000000 |
PaintCorrectionExposure2012 | 0.000000 |
PaintCorrectionHighlights2012 | 0.000000 |
PaintCorrectionHue | 0.000000 |
PaintCorrectionLocalBlacks2012 | 0.000000 |
PaintCorrectionLocalWhites2012 | 0.000000 |
PaintCorrectionLuminanceNoise | 0.537040 |
PaintCorrectionMaskCenterWeight | 0.000000 |
PaintCorrectionMaskFlow | 1.000000 |
PaintCorrectionMaskRadius | 0.153372 |
PaintCorrectionMaskValue | 1.000000 |
PaintCorrectionMaskWhat | Mask/Paint |
PaintCorrectionMoire | 0.000000 |
PaintCorrectionSaturation | 0.000000 |
PaintCorrectionShadows2012 | 0.000000 |
PaintCorrectionSharpness | 0.870370 |
PaintCorrectionTemperature | 0.000000 |
PaintCorrectionTint | 0.000000 |
PaintCorrectionWhat | Correction |
ParametricDarks | -25 |
ParametricHighlights | +3 |
ParametricHighlightSplit | 75 |
ParametricLights | +36 |
ParametricMidtoneSplit | 50 |
ParametricShadows | +35 |
ParametricShadowSplit | 25 |
PerspectiveAspect | 0 |
PerspectiveHorizontal | 0 |
PerspectiveRotate | 0.0 |
PerspectiveScale | 100 |
PerspectiveUpright | 1 |
PerspectiveVertical | 0 |
PostCropVignetteAmount | 0 |
ProcessVersion | 6.7 |
ProfileDescription | sRGB IEC61966-2.1 |
Rating | 5 |
RawFileName | Julie og Sofie -sv- - SH_16893 - - 06 september 2015 - Fil-2.jpg |
RecommendedExposureIndex | 320 |
RedHue | 0 |
RedSaturation | 0 |
Rights | © Fotograf : Svein Hansen |
ScaleFactor35efl | 1.3 |
SceneCaptureType | Standard |
SensitivityType | Recommended Exposure Index |
SerialNumber | 093024002999 |
Shadows2012 | +17 |
ShadowTint | 0 |
SharpenDetail | 25 |
SharpenEdgeMasking | 0 |
SharpenRadius | +1.0 |
Sharpness | 25 |
ShutterSpeed | 1/50 |
ShutterSpeedValue | 1/50 |
Software | Adobe Photoshop Lightroom 6.1 (Windows) |
SplitToningBalance | 0 |
SplitToningHighlightHue | 0 |
SplitToningHighlightSaturation | 0 |
SplitToningShadowHue | 0 |
SplitToningShadowSaturation | 0 |
Subject | Julie og Sofie |
Tint | +21 |
ToneCurve | 0, 0, 255, 255 |
ToneCurveBlue | 0, 0, 255, 255 |
ToneCurveGreen | 0, 0, 255, 255 |
ToneCurveName | Linear |
ToneCurveName2012 | Linear |
ToneCurvePV2012 | 0, 0, 255, 255 |
ToneCurvePV2012Blue | 0, 0, 255, 255 |
ToneCurvePV2012Green | 0, 0, 255, 255 |
ToneCurvePV2012Red | 0, 0, 255, 255 |
ToneCurveRed | 0, 0, 255, 255 |
ToneMapStrength | 0 |
URL | www.sveinfoto.no |
UsageTerms | Det er ikke lov å kopiere eller bruke bilde uten tillatelse av fotografen! |
UserComment | Canon 5D Mark III |
Version | 9.1 |
VignetteAmount | 0 |
WebStatement | www.sveinfoto.no |
WhiteBalance (1) | Custom |
WhiteBalance | Auto |
Whites2012 | -32 |