Felt | Verdi |
AlreadyApplied | True |
Aperture | 16.0 |
ApertureValue | 16.0 |
ApproximateFocusDistance | 4294967295 |
Artist | GAUTE FORBERGSKOG |
AutoLateralCA | 0 |
BitsPerSample (1) | 8 8 8 |
BitsPerSample | 8 |
Blacks2012 | +39 |
BlueHue | 0 |
BlueSaturation | 0 |
By-line | GAUTE FORBERGSKOG |
CameraProfile | Adobe Standard |
CFAPattern | [Red,Green][Green,Blue] |
CircGradBasedCorrActive | true |
CircGradBasedCorrAmount | 1.000000 |
CircGradBasedCorrBrightness | 0.000000 |
CircGradBasedCorrClarity | 0.000000 |
CircGradBasedCorrClarity2012 | 0.000000 |
CircGradBasedCorrContrast | 0.000000 |
CircGradBasedCorrContrast2012 | 0.000000 |
CircGradBasedCorrCorrectionRangeMaskColorAmount | 0.500000 |
CircGradBasedCorrCorrectionRangeMaskLumFeather | 0.500000 |
CircGradBasedCorrCorrectionRangeMaskLumMax | 1.000000 |
CircGradBasedCorrCorrectionRangeMaskLumMin | 0.000000 |
CircGradBasedCorrCorrectionRangeMaskType | 0 |
CircGradBasedCorrCorrectionRangeMaskVersion | +2 |
CircGradBasedCorrDefringe | 0.000000 |
CircGradBasedCorrExposure | 0.000000 |
CircGradBasedCorrExposure2012 (1) | 0.301123 |
CircGradBasedCorrExposure2012 (4) | 0.102321 |
CircGradBasedCorrExposure2012 (5) | 0.000000 |
CircGradBasedCorrExposure2012 (6) | 0.095722 |
CircGradBasedCorrExposure2012 | 0.196602 |
CircGradBasedCorrHighlights2012 | 0.000000 |
CircGradBasedCorrHue | 0.000000 |
CircGradBasedCorrLocalBlacks2012 | 0.000000 |
CircGradBasedCorrLocalDehaze | 0.000000 |
CircGradBasedCorrLocalWhites2012 | 0.000000 |
CircGradBasedCorrLuminanceNoise | 0.000000 |
CircGradBasedCorrMaskAngle (1) | 1.648190 |
CircGradBasedCorrMaskAngle (2) | -0.062259 |
CircGradBasedCorrMaskAngle (4) | 28.557900 |
CircGradBasedCorrMaskAngle (5) | 0.000000 |
CircGradBasedCorrMaskAngle | 7.035220 |
CircGradBasedCorrMaskBottom (1) | 0.652969 |
CircGradBasedCorrMaskBottom (2) | 0.662714 |
CircGradBasedCorrMaskBottom (3) | 0.663810 |
CircGradBasedCorrMaskBottom (4) | 0.896862 |
CircGradBasedCorrMaskBottom (5) | 0.814525 |
CircGradBasedCorrMaskBottom (6) | 0.894444 |
CircGradBasedCorrMaskBottom (7) | 0.897074 |
CircGradBasedCorrMaskBottom | 0.725423 |
CircGradBasedCorrMaskFeather | +100 |
CircGradBasedCorrMaskFlipped | true |
CircGradBasedCorrMaskLeft (1) | 0.287164 |
CircGradBasedCorrMaskLeft (2) | 0.500595 |
CircGradBasedCorrMaskLeft (3) | 0.648973 |
CircGradBasedCorrMaskLeft (4) | 0.104021 |
CircGradBasedCorrMaskLeft (5) | 0.306166 |
CircGradBasedCorrMaskLeft (6) | 0.393515 |
CircGradBasedCorrMaskLeft (7) | 0.643547 |
CircGradBasedCorrMaskLeft | 0.151147 |
CircGradBasedCorrMaskMidpoint | +50 |
CircGradBasedCorrMaskRight (1) | 0.328618 |
CircGradBasedCorrMaskRight (2) | 0.534027 |
CircGradBasedCorrMaskRight (3) | 0.677595 |
CircGradBasedCorrMaskRight (4) | 0.225887 |
CircGradBasedCorrMaskRight (5) | 0.323145 |
CircGradBasedCorrMaskRight (6) | 0.515381 |
CircGradBasedCorrMaskRight (7) | 0.765413 |
CircGradBasedCorrMaskRight | 0.641312 |
CircGradBasedCorrMaskRoundness | 0 |
CircGradBasedCorrMaskTop (1) | 0.337379 |
CircGradBasedCorrMaskTop (2) | 0.401992 |
CircGradBasedCorrMaskTop (3) | 0.565112 |
CircGradBasedCorrMaskTop (4) | 0.560842 |
CircGradBasedCorrMaskTop (5) | 0.777341 |
CircGradBasedCorrMaskTop (6) | 0.558424 |
CircGradBasedCorrMaskTop (7) | 0.561054 |
CircGradBasedCorrMaskTop | 0.319473 |
CircGradBasedCorrMaskValue | 1.000000 |
CircGradBasedCorrMaskVersion | +2 |
CircGradBasedCorrMaskWhat | Mask/CircularGradient |
CircGradBasedCorrMoire | 0.000000 |
CircGradBasedCorrSaturation | 0.000000 |
CircGradBasedCorrShadows2012 | 0.000000 |
CircGradBasedCorrSharpness | 0.000000 |
CircGradBasedCorrTemperature | 0.000000 |
CircGradBasedCorrTint | 0.000000 |
CircGradBasedCorrWhat | Correction |
CircleOfConfusion | 0.030 mm |
Clarity2012 | +9 |
ColorComponents | 3 |
ColorMode | RGB |
ColorNoiseReduction | 25 |
ColorNoiseReductionDetail | 50 |
ColorNoiseReductionSmoothness | 50 |
ColorSpace | Uncalibrated |
ColorTemperature | 6900 |
ColorTransform | YCbCr |
Contrast | Normal |
Contrast2012 | 0 |
ConvertToGrayscale | False |
Copyright | 2018 GAUTE FORBERGSKOG |
CopyrightNotice | 2018 GAUTE FORBERGSKOG |
CreateDate | 2018:08:08 15:00:34 |
Creator | GAUTE FORBERGSKOG |
CreatorTool | Adobe Photoshop CC 2018 (Macintosh) |
CropAngle | 0 |
CropBottom | 0.807859 |
CropConstrainToWarp | 0 |
CropLeft | 0.028937 |
CropRight | 0.823647 |
CropTop | 0.216633 |
CustomRendered | Normal |
DateCreated (1) | 2018:08:08 |
DateCreated | 2018:08:08 15:00:34.012 |
DateTimeOriginal | 2018:08:08 15:00:34 |
DefringeGreenAmount | 0 |
DefringeGreenHueHi | 60 |
DefringeGreenHueLo | 40 |
DefringePurpleAmount | 0 |
DefringePurpleHueHi | 70 |
DefringePurpleHueLo | 30 |
Dehaze | 0 |
DOF | inf (1.20 m - inf) |
ExifImageHeight | 1117 |
ExifImageWidth | 2185 |
Exposure2012 | 0.00 |
ExposureCompensation | 0 |
ExposureMode | Manual |
ExposureProgram | Manual |
ExposureTime | 21 |
Flash | No Flash |
FNumber | 16.0 |
FocalLength | 24.0 mm |
FocalLength35efl | 24.0 mm (35 mm equivalent: 24.0 mm) |
FocalLengthIn35mmFormat | 24 mm |
Format | image/jpeg |
FOV | 73.7 deg |
GainControl | None |
GradientBasedCorrActive | true |
GradientBasedCorrAmount | 1.000000 |
GradientBasedCorrBrightness | 0.000000 |
GradientBasedCorrClarity | 0.000000 |
GradientBasedCorrClarity2012 (2) | 0.533032 |
GradientBasedCorrClarity2012 (3) | -1.000000 |
GradientBasedCorrClarity2012 | 0.000000 |
GradientBasedCorrContrast | 0.000000 |
GradientBasedCorrContrast2012 (3) | 0.481417 |
GradientBasedCorrContrast2012 | 0.000000 |
GradientBasedCorrCorrectionRangeMaskColorAmount | 0.500000 |
GradientBasedCorrCorrectionRangeMaskLumFeather | 0.500000 |
GradientBasedCorrCorrectionRangeMaskLumMax | 1.000000 |
GradientBasedCorrCorrectionRangeMaskLumMin | 0.000000 |
GradientBasedCorrCorrectionRangeMaskType | 0 |
GradientBasedCorrCorrectionRangeMaskVersion | +2 |
GradientBasedCorrDefringe | 0.000000 |
GradientBasedCorrExposure | 0.000000 |
GradientBasedCorrExposure2012 (1) | 0.031136 |
GradientBasedCorrExposure2012 | 0.000000 |
GradientBasedCorrHighlights2012 | 0.000000 |
GradientBasedCorrHue | 0.000000 |
GradientBasedCorrLocalBlacks2012 | 0.000000 |
GradientBasedCorrLocalDehaze | 0.000000 |
GradientBasedCorrLocalWhites2012 (3) | 0.270176 |
GradientBasedCorrLocalWhites2012 | 0.000000 |
GradientBasedCorrLuminanceNoise | 0.000000 |
GradientBasedCorrMaskFullX (1) | 0.465207 |
GradientBasedCorrMaskFullX (2) | 0.451356 |
GradientBasedCorrMaskFullX (3) | 0.623589 |
GradientBasedCorrMaskFullX | 0.474648 |
GradientBasedCorrMaskFullY (1) | 0.827915 |
GradientBasedCorrMaskFullY (2) | 0.851318 |
GradientBasedCorrMaskFullY (3) | 0.831966 |
GradientBasedCorrMaskFullY | 0.207168 |
GradientBasedCorrMaskValue | 1.000000 |
GradientBasedCorrMaskWhat | Mask/Gradient |
GradientBasedCorrMaskZeroX (1) | 0.465438 |
GradientBasedCorrMaskZeroX (2) | 0.453421 |
GradientBasedCorrMaskZeroX (3) | 0.624803 |
GradientBasedCorrMaskZeroX | 0.467034 |
GradientBasedCorrMaskZeroY (1) | 0.512693 |
GradientBasedCorrMaskZeroY (2) | 0.692920 |
GradientBasedCorrMaskZeroY (3) | 0.629441 |
GradientBasedCorrMaskZeroY | 0.560997 |
GradientBasedCorrMoire | 0.000000 |
GradientBasedCorrSaturation (5) | 0.295623 |
GradientBasedCorrSaturation | 0.000000 |
GradientBasedCorrShadows2012 | 0.000000 |
GradientBasedCorrSharpness (3) | -1.000000 |
GradientBasedCorrSharpness | 0.000000 |
GradientBasedCorrTemperature (2) | 0.000000 |
GradientBasedCorrTemperature (3) | 0.435376 |
GradientBasedCorrTemperature | -0.276509 |
GradientBasedCorrTint (3) | 0.103079 |
GradientBasedCorrTint | 0.000000 |
GradientBasedCorrWhat | Correction |
GrainAmount | 0 |
GreenHue | 0 |
GreenSaturation | 0 |
HasCrop | True |
HasExtendedXMP | A833EFD72B1EA4CD8486C6B514CC2FAB |
HasSettings | True |
HierarchicalSubject | 2018, London, by, ferie, reise |
Highlights2012 | -100 |
HueAdjustmentAqua | +7 |
HueAdjustmentBlue | +8 |
HueAdjustmentGreen | +9 |
HueAdjustmentMagenta | 0 |
HueAdjustmentOrange | +8 |
HueAdjustmentPurple | -2 |
HueAdjustmentRed | -2 |
HueAdjustmentYellow | +20 |
HyperfocalDistance | 1.20 m |
ICCProfileName | Adobe RGB (1998) |
ImageHeight (1) | 3254 |
ImageHeight | 1117 |
ImageNumber | 4291 |
ImageSize | 2185x1117 |
ImageWidth (1) | 6561 |
ImageWidth | 2185 |
ISO | 100 |
Keywords | 2018, London, by, ferie, reise |
Label | |
Lens | 24.0-70.0 mm f/2.8 |
LensID (1) | 170 |
LensID | AF-S Nikkor 24-70mm f/2.8E ED VR |
LensInfo | 24-70mm f/2.8 |
LensManualDistortionAmount | 0 |
LensModel | 24.0-70.0 mm f/2.8 |
LensProfileEnable | 0 |
LensProfileSetup | LensDefaults |
LightSource | Unknown |
LightValue | 3.6 |
LookAmount | 1.000000 |
LookGroup | Profiles |
LookName | Adobe Color |
LookParametersCameraProfile | Adobe Standard |
LookParametersConvertToGrayscale | False |
LookParametersLookTable | E1095149FDB39D7A057BAB208837E2E1 |
LookParametersProcessVersion | 10.0 |
LookParametersToneCurvePV2012 | 0, 0, 22, 16, 40, 35, 127, 127, 224, 230, 240, 246, 255, 255 |
LookParametersToneCurvePV2012Blue | 0, 0, 255, 255 |
LookParametersToneCurvePV2012Green | 0, 0, 255, 255 |
LookParametersToneCurvePV2012Red | 0, 0, 255, 255 |
LookParametersVersion | 10.5 |
LookSupportsAmount | false |
LookSupportsMonochrome | false |
LookSupportsOutputReferred | false |
LuminanceAdjustmentAqua | -30 |
LuminanceAdjustmentBlue | -21 |
LuminanceAdjustmentGreen | -9 |
LuminanceAdjustmentMagenta | -25 |
LuminanceAdjustmentOrange | +36 |
LuminanceAdjustmentPurple | -37 |
LuminanceAdjustmentRed | -12 |
LuminanceAdjustmentYellow | +23 |
LuminanceNoiseReductionContrast | 0 |
LuminanceNoiseReductionDetail | 50 |
LuminanceSmoothing | 17 |
Make | NIKON CORPORATION |
MaxApertureValue | 2.8 |
Megapixels | 2.4 |
MeteringMode | Spot |
Model | NIKON D850 |
ModifyDate (1) | 2018:09:27 12:18:18+02:00 |
ModifyDate | 2018:09:27 12:18:18 |
Orientation | Horizontal (normal) |
OverrideLookVignette | False |
PaintCorrectionActive | true |
PaintCorrectionAmount | 1.000000 |
PaintCorrectionBrightness | 0.000000 |
PaintCorrectionClarity | 0.000000 |
PaintCorrectionClarity2012 (1) | 0.533032 |
PaintCorrectionClarity2012 | 0.005347 |
PaintCorrectionContrast | 0.000000 |
PaintCorrectionContrast2012 (1) | 0.292324 |
PaintCorrectionContrast2012 | 0.000000 |
PaintCorrectionCorrectionRangeMaskColorAmount | 0.500000 |
PaintCorrectionCorrectionRangeMaskLumFeather | 0.500000 |
PaintCorrectionCorrectionRangeMaskLumMax | 1.000000 |
PaintCorrectionCorrectionRangeMaskLumMin | 0.000000 |
PaintCorrectionCorrectionRangeMaskType | 0 |
PaintCorrectionCorrectionRangeMaskVersion | +2 |
PaintCorrectionDefringe | 0.000000 |
PaintCorrectionExposure | 0.000000 |
PaintCorrectionExposure2012 (1) | 0.073460 |
PaintCorrectionExposure2012 | -0.316406 |
PaintCorrectionHighlights2012 | 0.000000 |
PaintCorrectionHue | 0.000000 |
PaintCorrectionLocalBlacks2012 | 0.000000 |
PaintCorrectionLocalDehaze | 0.000000 |
PaintCorrectionLocalWhites2012 (1) | 0.000000 |
PaintCorrectionLocalWhites2012 | 0.842005 |
PaintCorrectionLuminanceNoise | 0.000000 |
PaintCorrectionMaskCenterWeight | 0.000000 |
PaintCorrectionMaskFlow | 1.000000 |
PaintCorrectionMaskRadius (1) | 0.029381 |
PaintCorrectionMaskRadius (11) | 0.008258 |
PaintCorrectionMaskRadius (12) | 0.015556 |
PaintCorrectionMaskRadius (18) | 0.009668 |
PaintCorrectionMaskRadius (34) | 0.005513 |
PaintCorrectionMaskRadius (40) | 0.002868 |
PaintCorrectionMaskRadius (41) | 0.017091 |
PaintCorrectionMaskRadius (45) | 0.004178 |
PaintCorrectionMaskRadius | 0.012562 |
PaintCorrectionMaskValue | 0.652344 |
PaintCorrectionMaskWhat | Mask/Paint |
PaintCorrectionMoire | 0.000000 |
PaintCorrectionSaturation | 0.000000 |
PaintCorrectionShadows2012 | 0.000000 |
PaintCorrectionSharpness | 0.000000 |
PaintCorrectionTemperature | 0.000000 |
PaintCorrectionTint | 0.000000 |
PaintCorrectionWhat | Correction |
ParametricDarks | 0 |
ParametricHighlights | 0 |
ParametricHighlightSplit | 75 |
ParametricLights | 0 |
ParametricMidtoneSplit | 50 |
ParametricShadows | 0 |
ParametricShadowSplit | 25 |
PerspectiveAspect | 0 |
PerspectiveHorizontal | 0 |
PerspectiveRotate | 0.0 |
PerspectiveScale | 100 |
PerspectiveUpright | 0 |
PerspectiveVertical | 0 |
PerspectiveX | 0.00 |
PerspectiveY | 0.00 |
PhotometricInterpretation | RGB |
PostCropVignetteAmount | 0 |
ProcessVersion | 10.0 |
ProfileDescription | Adobe RGB (1998) |
Rating | 0 |
RawFileName | _8504017.NEF |
RecommendedExposureIndex | 100 |
RedHue | 0 |
RedSaturation | 0 |
Rights | 2018 GAUTE FORBERGSKOG |
SamplesPerPixel | 3 |
Saturation (1) | -16 |
Saturation | Normal |
SaturationAdjustmentAqua | -15 |
SaturationAdjustmentBlue | +18 |
SaturationAdjustmentGreen | -8 |
SaturationAdjustmentMagenta | -14 |
SaturationAdjustmentOrange | +17 |
SaturationAdjustmentPurple | -4 |
SaturationAdjustmentRed | -20 |
SaturationAdjustmentYellow | +38 |
ScaleFactor35efl | 1.0 |
SceneCaptureType | Standard |
SceneType | Directly photographed |
SensingMethod | One-chip color area |
SensitivityType | Recommended Exposure Index |
SerialNumber | 6023637 |
Shadows2012 | +75 |
ShadowTint | 0 |
SharpenDetail | 25 |
SharpenEdgeMasking | 100 |
SharpenRadius | +1.0 |
Sharpness (1) | 40 |
Sharpness | Normal |
ShutterSpeed | 21 |
ShutterSpeedValue | 21 |
Software | Adobe Photoshop CC 2018 (Macintosh) |
SplitToningBalance | 0 |
SplitToningHighlightHue | 0 |
SplitToningHighlightSaturation | 0 |
SplitToningShadowHue | 0 |
SplitToningShadowSaturation | 0 |
Subject | 2018, London, by, ferie, reise |
SubjectDistanceRange | Unknown |
Tint | +25 |
ToneCurve | 0, 0, 32, 22, 64, 56, 128, 128, 192, 196, 255, 255 |
ToneCurveBlue | 0, 0, 255, 255 |
ToneCurveGreen | 0, 0, 255, 255 |
ToneCurveName | Medium Contrast |
ToneCurveName2012 | Linear |
ToneCurvePV2012 | 0, 0, 255, 255 |
ToneCurvePV2012Blue | 0, 0, 255, 255 |
ToneCurvePV2012Green | 0, 0, 255, 255 |
ToneCurvePV2012Red | 0, 0, 255, 255 |
ToneCurveRed | 0, 0, 255, 255 |
ToneMapStrength | 0 |
URL_List | |
Version | 10.5 |
Vibrance | +19 |
VignetteAmount | 0 |
WhiteBalance (1) | As Shot |
WhiteBalance | Auto |
Whites2012 | -100 |