Felt | Verdi |
AlreadyApplied | True |
Aperture | 4.0 |
ApertureValue | 4.0 |
ApproximateFocusDistance | 4294967295 |
AutoLateralCA | 0 |
BitsPerSample | 8 |
Blacks2012 | -50 |
BlueHue | 0 |
BlueSaturation | 0 |
CameraProfile | Adobe Standard |
CFAPattern | [Red,Green][Green,Blue] |
CircGradBasedCorrActive | true |
CircGradBasedCorrAmount | 1.000000 |
CircGradBasedCorrBrightness | 0.000000 |
CircGradBasedCorrClarity | 0.000000 |
CircGradBasedCorrClarity2012 (10) | 0.611006 |
CircGradBasedCorrClarity2012 (3) | 0.501138 |
CircGradBasedCorrClarity2012 (4) | 0.747004 |
CircGradBasedCorrClarity2012 (5) | 1.000000 |
CircGradBasedCorrClarity2012 | 0.740519 |
CircGradBasedCorrContrast | 0.000000 |
CircGradBasedCorrContrast2012 (7) | 0.000000 |
CircGradBasedCorrContrast2012 | 0.242263 |
CircGradBasedCorrCorrectionRangeMaskType | 0 |
CircGradBasedCorrCorrectionRangeMaskVersion | +2 |
CircGradBasedCorrDefringe | 0.000000 |
CircGradBasedCorrExposure | 0.000000 |
CircGradBasedCorrExposure2012 (1) | 0.176236 |
CircGradBasedCorrExposure2012 (3) | 0.064889 |
CircGradBasedCorrExposure2012 (4) | 0.103307 |
CircGradBasedCorrExposure2012 (5) | 0.046534 |
CircGradBasedCorrExposure2012 | 0.000000 |
CircGradBasedCorrHighlights2012 (8) | 0.000000 |
CircGradBasedCorrHighlights2012 | -1.000000 |
CircGradBasedCorrHue | 0.000000 |
CircGradBasedCorrLocalBlacks2012 (11) | -0.193340 |
CircGradBasedCorrLocalBlacks2012 (2) | -0.219850 |
CircGradBasedCorrLocalBlacks2012 (4) | -0.230886 |
CircGradBasedCorrLocalBlacks2012 | 0.000000 |
CircGradBasedCorrLocalDehaze | 0.000000 |
CircGradBasedCorrLocalWhites2012 (11) | 0.207031 |
CircGradBasedCorrLocalWhites2012 (4) | 0.257509 |
CircGradBasedCorrLocalWhites2012 | 0.000000 |
CircGradBasedCorrLuminanceNoise | 0.000000 |
CircGradBasedCorrMaskAngle (10) | -15.121500 |
CircGradBasedCorrMaskAngle (2) | -44.784400 |
CircGradBasedCorrMaskAngle (3) | 0.615878 |
CircGradBasedCorrMaskAngle (9) | 0.000000 |
CircGradBasedCorrMaskAngle | 32.711900 |
CircGradBasedCorrMaskBottom (1) | 0.457326 |
CircGradBasedCorrMaskBottom (10) | 0.453004 |
CircGradBasedCorrMaskBottom (11) | 0.452259 |
CircGradBasedCorrMaskBottom (2) | 0.407432 |
CircGradBasedCorrMaskBottom (3) | 0.150284 |
CircGradBasedCorrMaskBottom (4) | 0.342474 |
CircGradBasedCorrMaskBottom (5) | 0.639433 |
CircGradBasedCorrMaskBottom (6) | 0.401581 |
CircGradBasedCorrMaskBottom (7) | 0.524037 |
CircGradBasedCorrMaskBottom (8) | 0.470736 |
CircGradBasedCorrMaskBottom (9) | 0.347656 |
CircGradBasedCorrMaskBottom | 0.798200 |
CircGradBasedCorrMaskFeather | +100 |
CircGradBasedCorrMaskFlipped | true |
CircGradBasedCorrMaskLeft (1) | 0.416167 |
CircGradBasedCorrMaskLeft (10) | 0.513053 |
CircGradBasedCorrMaskLeft (11) | 0.286415 |
CircGradBasedCorrMaskLeft (2) | 0.071279 |
CircGradBasedCorrMaskLeft (3) | 0.355212 |
CircGradBasedCorrMaskLeft (4) | 0.365990 |
CircGradBasedCorrMaskLeft (5) | 0.336158 |
CircGradBasedCorrMaskLeft (6) | 0.388373 |
CircGradBasedCorrMaskLeft (7) | 0.461041 |
CircGradBasedCorrMaskLeft (8) | 0.457214 |
CircGradBasedCorrMaskLeft (9) | 0.351430 |
CircGradBasedCorrMaskLeft | 0.371800 |
CircGradBasedCorrMaskMidpoint | +50 |
CircGradBasedCorrMaskRight (1) | 0.549713 |
CircGradBasedCorrMaskRight (10) | 0.560740 |
CircGradBasedCorrMaskRight (11) | 0.367003 |
CircGradBasedCorrMaskRight (2) | 0.492441 |
CircGradBasedCorrMaskRight (3) | 0.619736 |
CircGradBasedCorrMaskRight (4) | 0.476256 |
CircGradBasedCorrMaskRight (5) | 0.598770 |
CircGradBasedCorrMaskRight (6) | 0.547884 |
CircGradBasedCorrMaskRight (7) | 0.529630 |
CircGradBasedCorrMaskRight (8) | 0.525803 |
CircGradBasedCorrMaskRight (9) | 0.539625 |
CircGradBasedCorrMaskRight | 0.207122 |
CircGradBasedCorrMaskRoundness | 0 |
CircGradBasedCorrMaskTop (1) | 0.319607 |
CircGradBasedCorrMaskTop (10) | 0.318233 |
CircGradBasedCorrMaskTop (11) | 0.302924 |
CircGradBasedCorrMaskTop (2) | 0.704917 |
CircGradBasedCorrMaskTop (3) | 0.046783 |
CircGradBasedCorrMaskTop (4) | 0.170361 |
CircGradBasedCorrMaskTop (5) | 0.045015 |
CircGradBasedCorrMaskTop (6) | 0.358306 |
CircGradBasedCorrMaskTop (7) | 0.490212 |
CircGradBasedCorrMaskTop (8) | 0.436911 |
CircGradBasedCorrMaskTop (9) | 0.313831 |
CircGradBasedCorrMaskTop | 0.273317 |
CircGradBasedCorrMaskValue | 1.000000 |
CircGradBasedCorrMaskVersion | +2 |
CircGradBasedCorrMaskWhat | Mask/CircularGradient |
CircGradBasedCorrMoire | 0.000000 |
CircGradBasedCorrSaturation | 0.000000 |
CircGradBasedCorrShadows2012 (3) | 0.147527 |
CircGradBasedCorrShadows2012 | 0.000000 |
CircGradBasedCorrSharpness (10) | 0.000000 |
CircGradBasedCorrSharpness (2) | 0.492112 |
CircGradBasedCorrSharpness (5) | 0.568416 |
CircGradBasedCorrSharpness | 0.253489 |
CircGradBasedCorrTemperature (2) | 0.267066 |
CircGradBasedCorrTemperature (3) | 0.156971 |
CircGradBasedCorrTemperature (4) | 0.069895 |
CircGradBasedCorrTemperature (5) | 0.276168 |
CircGradBasedCorrTemperature | 0.000000 |
CircGradBasedCorrTint | 0.000000 |
CircGradBasedCorrWhat | Correction |
CircleOfConfusion | 0.030 mm |
Clarity2012 | 0 |
ColorComponents | 3 |
ColorMode | RGB |
ColorNoiseReduction | 20 |
ColorNoiseReductionDetail | 50 |
ColorNoiseReductionSmoothness | 50 |
ColorSpace | Uncalibrated |
ColorTemperature | 5750 |
ColorTransform | YCbCr |
Contrast | Normal |
Contrast2012 | 0 |
ConvertToGrayscale | False |
CreateDate | 2014:01:20 12:17:45 |
CreatorTool | Ver.1.02 |
CropAngle | -1.59557 |
CropBottom | 0.758169 |
CropConstrainToWarp | 0 |
CropLeft | 0.079918 |
CropRight | 0.726845 |
CropTop | 0.039847 |
CustomRendered | Normal |
DateCreated (1) | 2014:01:20 |
DateCreated | 2014:01:20 12:17:45.004 |
DateTimeOriginal | 2014:01:20 12:17:45 |
DefringeGreenAmount | 0 |
DefringeGreenHueHi | 60 |
DefringeGreenHueLo | 40 |
DefringePurpleAmount | 0 |
DefringePurpleHueHi | 70 |
DefringePurpleHueLo | 30 |
Dehaze | 0 |
DigitalZoomRatio | 1 |
DOF | inf (240.46 m - inf) |
ExifImageHeight | 2067 |
ExifImageWidth | 1623 |
Exposure2012 | 0.00 |
ExposureCompensation | 0 |
ExposureMode | Auto |
ExposureProgram | Aperture-priority AE |
ExposureTime | 1/250 |
Flash | Off, Did not fire |
FNumber | 4.0 |
FocalLength | 170.0 mm |
FocalLengthIn35mmFormat | 170 mm |
Format | image/jpeg |
FOV | 12.1 deg |
GainControl | None |
GradientBasedCorrActive | true |
GradientBasedCorrAmount | 1.000000 |
GradientBasedCorrBrightness | 0.000000 |
GradientBasedCorrClarity | 0.000000 |
GradientBasedCorrClarity2012 (1) | -0.498976 |
GradientBasedCorrClarity2012 (2) | 0.000000 |
GradientBasedCorrClarity2012 (3) | -0.477700 |
GradientBasedCorrClarity2012 | -0.499166 |
GradientBasedCorrContrast | 0.000000 |
GradientBasedCorrContrast2012 | 0.000000 |
GradientBasedCorrCorrectionRangeMaskType | 0 |
GradientBasedCorrCorrectionRangeMaskVersion | +2 |
GradientBasedCorrDefringe | 0.000000 |
GradientBasedCorrExposure | 0.000000 |
GradientBasedCorrExposure2012 (1) | -0.241012 |
GradientBasedCorrExposure2012 | 0.000000 |
GradientBasedCorrHighlights2012 | 0.000000 |
GradientBasedCorrHue | 0.000000 |
GradientBasedCorrLocalBlacks2012 | 0.000000 |
GradientBasedCorrLocalDehaze (2) | -0.768166 |
GradientBasedCorrLocalDehaze | 0.000000 |
GradientBasedCorrLocalWhites2012 (1) | 0.000000 |
GradientBasedCorrLocalWhites2012 | 0.755044 |
GradientBasedCorrLuminanceNoise | 0.000000 |
GradientBasedCorrMaskFullX (1) | -0.006656 |
GradientBasedCorrMaskFullX (2) | 0.682514 |
GradientBasedCorrMaskFullX (3) | 0.716609 |
GradientBasedCorrMaskFullX | 0.082379 |
GradientBasedCorrMaskFullY (1) | 0.469109 |
GradientBasedCorrMaskFullY (2) | 0.818564 |
GradientBasedCorrMaskFullY (3) | 0.463427 |
GradientBasedCorrMaskFullY | 0.268567 |
GradientBasedCorrMaskValue | 1.000000 |
GradientBasedCorrMaskWhat | Mask/Gradient |
GradientBasedCorrMaskZeroX (1) | 0.195538 |
GradientBasedCorrMaskZeroX (2) | 0.494384 |
GradientBasedCorrMaskZeroX (3) | 0.569851 |
GradientBasedCorrMaskZeroX | 0.275348 |
GradientBasedCorrMaskZeroY (1) | 0.706356 |
GradientBasedCorrMaskZeroY (2) | 0.594065 |
GradientBasedCorrMaskZeroY (3) | 0.397777 |
GradientBasedCorrMaskZeroY | 0.360291 |
GradientBasedCorrMoire | 0.000000 |
GradientBasedCorrSaturation (1) | -0.718105 |
GradientBasedCorrSaturation | 0.000000 |
GradientBasedCorrShadows2012 | 0.000000 |
GradientBasedCorrSharpness (1) | -0.702518 |
GradientBasedCorrSharpness (2) | 0.000000 |
GradientBasedCorrSharpness | -1.000000 |
GradientBasedCorrTemperature (1) | -0.078808 |
GradientBasedCorrTemperature (3) | 0.727207 |
GradientBasedCorrTemperature | 0.000000 |
GradientBasedCorrTint | 0.000000 |
GradientBasedCorrWhat | Correction |
GrainAmount | 0 |
GreenHue | 0 |
GreenSaturation | 0 |
HasCrop | True |
HasSettings | True |
HierarchicalSubject | 32 gig før namsos |
Highlights2012 | -100 |
HueAdjustmentAqua | 0 |
HueAdjustmentBlue | 0 |
HueAdjustmentGreen | 0 |
HueAdjustmentMagenta | 0 |
HueAdjustmentOrange | 0 |
HueAdjustmentPurple | 0 |
HueAdjustmentRed | 0 |
HueAdjustmentYellow | 0 |
HyperfocalDistance | 240.46 m |
ICCProfileName | Adobe RGB (1998) |
ImageHeight | 2067 |
ImageNumber | 6688 |
ImageSize | 1623x2067 |
ImageWidth | 1623 |
ISO | 100 |
Keywords | 32 gig før namsos |
Label | |
Lens | 70.0-200.0 mm f/2.8 |
LensID (1) | 119 |
LensInfo | 70-200mm f/2.8 |
LensManualDistortionAmount | 0 |
LensModel | 70.0-200.0 mm f/2.8 |
LensProfileEnable | 0 |
LensProfileSetup | LensDefaults |
LightSource | Cloudy |
LightValue | 12.0 |
LookAmount | 1.000000 |
LookGroup | Profiles |
LookName | Adobe Color |
LookParametersCameraProfile | Adobe Standard |
LookParametersConvertToGrayscale | False |
LookParametersLookTable | E1095149FDB39D7A057BAB208837E2E1 |
LookParametersProcessVersion | 11.0 |
LookParametersToneCurvePV2012 | 0, 0, 22, 16, 40, 35, 127, 127, 224, 230, 240, 246, 255, 255 |
LookParametersToneCurvePV2012Blue | 0, 0, 255, 255 |
LookParametersToneCurvePV2012Green | 0, 0, 255, 255 |
LookParametersToneCurvePV2012Red | 0, 0, 255, 255 |
LookParametersVersion | 11.0 |
LookSupportsAmount | false |
LookSupportsMonochrome | false |
LookSupportsOutputReferred | false |
LuminanceAdjustmentAqua | -13 |
LuminanceAdjustmentBlue | -32 |
LuminanceAdjustmentGreen | +50 |
LuminanceAdjustmentMagenta | -13 |
LuminanceAdjustmentOrange | +50 |
LuminanceAdjustmentPurple | +9 |
LuminanceAdjustmentRed | +2 |
LuminanceAdjustmentYellow | +37 |
LuminanceNoiseReductionContrast | 0 |
LuminanceNoiseReductionDetail | 50 |
LuminanceSmoothing | 15 |
Make | NIKON CORPORATION |
MaxApertureValue | 2.8 |
Megapixels | 3.4 |
MeteringMode | Spot |
Model | NIKON D800 |
ModifyDate (1) | 2018:11:13 14:19:34+01:00 |
ModifyDate | 2018:11:13 14:19:34 |
Orientation | Horizontal (normal) |
OverrideLookVignette | False |
PaintCorrectionActive | true |
PaintCorrectionAmount | 1.000000 |
PaintCorrectionBrightness | 0.000000 |
PaintCorrectionClarity | 0.000000 |
PaintCorrectionClarity2012 | 0.000000 |
PaintCorrectionContrast | 0.000000 |
PaintCorrectionContrast2012 | 0.000000 |
PaintCorrectionCorrectionRangeMaskType | 0 |
PaintCorrectionCorrectionRangeMaskVersion | +2 |
PaintCorrectionDefringe | 0.000000 |
PaintCorrectionExposure | 0.000000 |
PaintCorrectionExposure2012 | -0.126631 |
PaintCorrectionHighlights2012 | 0.000000 |
PaintCorrectionHue | 0.000000 |
PaintCorrectionLocalBlacks2012 | 0.000000 |
PaintCorrectionLocalDehaze | 0.000000 |
PaintCorrectionLocalWhites2012 | 0.000000 |
PaintCorrectionLuminanceNoise | 0.000000 |
PaintCorrectionMaskCenterWeight | 0.000000 |
PaintCorrectionMaskFlow | 1.000000 |
PaintCorrectionMaskRadius (5) | 0.096850 |
PaintCorrectionMaskRadius | 0.074457 |
PaintCorrectionMaskValue (5) | 0.652344 |
PaintCorrectionMaskValue | 0.000000 |
PaintCorrectionMaskWhat | Mask/Paint |
PaintCorrectionMoire | 0.000000 |
PaintCorrectionSaturation | 0.000000 |
PaintCorrectionShadows2012 | 0.000000 |
PaintCorrectionSharpness | -1.000000 |
PaintCorrectionTemperature | 0.000000 |
PaintCorrectionTint | 0.000000 |
PaintCorrectionWhat | Correction |
ParametricDarks | 0 |
ParametricHighlights | 0 |
ParametricHighlightSplit | 75 |
ParametricLights | 0 |
ParametricMidtoneSplit | 50 |
ParametricShadows | 0 |
ParametricShadowSplit | 25 |
PerspectiveAspect | 0 |
PerspectiveHorizontal | 0 |
PerspectiveRotate | 0.0 |
PerspectiveScale | 100 |
PerspectiveUpright | 0 |
PerspectiveVertical | 0 |
PerspectiveX | 0.00 |
PerspectiveY | 0.00 |
PostCropVignetteAmount | 0 |
ProcessVersion | 11.0 |
ProfileDescription | Adobe RGB (1998) |
Rating | 0 |
RawFileName | _DSC6366.NEF |
RedHue | 0 |
RedSaturation | 0 |
Saturation (1) | -21 |
Saturation | Normal |
SaturationAdjustmentAqua | 0 |
SaturationAdjustmentBlue | 0 |
SaturationAdjustmentGreen | +17 |
SaturationAdjustmentMagenta | 0 |
SaturationAdjustmentOrange | +15 |
SaturationAdjustmentPurple | 0 |
SaturationAdjustmentRed | +15 |
SaturationAdjustmentYellow | +13 |
ScaleFactor35efl | 1.0 |
SceneCaptureType | Standard |
SceneType | Directly photographed |
SensingMethod | One-chip color area |
SensitivityType | Recommended Exposure Index |
SerialNumber | 6097465 |
Shadows2012 | +50 |
ShadowTint | 0 |
SharpenDetail | 25 |
SharpenEdgeMasking | 100 |
SharpenRadius | +1.0 |
Sharpness (1) | 40 |
Sharpness | Normal |
ShutterSpeed | 1/250 |
ShutterSpeedValue | 1/250 |
Software | Adobe Photoshop CC 2019 (Macintosh) |
SplitToningBalance | 0 |
SplitToningHighlightHue | 0 |
SplitToningHighlightSaturation | 0 |
SplitToningShadowHue | 0 |
SplitToningShadowSaturation | 0 |
Subject | 32 gig før namsos |
SubjectDistanceRange | Unknown |
Tint | +5 |
ToneCurve | 0, 0, 32, 22, 64, 56, 128, 128, 192, 196, 255, 255 |
ToneCurveBlue | 0, 0, 255, 255 |
ToneCurveGreen | 0, 0, 255, 255 |
ToneCurveName | Medium Contrast |
ToneCurveName2012 | Linear |
ToneCurvePV2012 | 0, 0, 255, 255 |
ToneCurvePV2012Blue | 0, 0, 255, 255 |
ToneCurvePV2012Green | 0, 0, 255, 255 |
ToneCurvePV2012Red | 0, 0, 255, 255 |
ToneCurveRed | 0, 0, 255, 255 |
ToneMapStrength | 0 |
URL_List | |
Version | 11.0 |
Vibrance | +25 |
VignetteAmount | 0 |
WhiteBalance (1) | As Shot |
WhiteBalance | Manual |
Whites2012 | +50 |