Felt | Verdi |
AlreadyApplied | True |
Aperture | 11.0 |
ApertureValue | 11.0 |
ApproximateFocusDistance | 4294967295 |
AutoLateralCA | 1 |
BitsPerSample | 8 |
Blacks2012 | -14 |
BlueHue | 0 |
BlueSaturation | 0 |
CameraProfile | Adobe Standard |
CFAPattern | [Red,Green][Green,Blue] |
CircGradBasedCorrActive | true |
CircGradBasedCorrAmount | 1.000000 |
CircGradBasedCorrBrightness | 0.000000 |
CircGradBasedCorrClarity2012 (1) | -0.019980 |
CircGradBasedCorrClarity2012 | 0.000000 |
CircGradBasedCorrContrast2012 (1) | 0.086920 |
CircGradBasedCorrContrast2012 (2) | 0.000000 |
CircGradBasedCorrContrast2012 | 0.042740 |
CircGradBasedCorrCorrectionRangeMaskColorAmount | 0.500000 |
CircGradBasedCorrCorrectionRangeMaskDepthFeather | 0.500000 |
CircGradBasedCorrCorrectionRangeMaskDepthMax | 1.000000 |
CircGradBasedCorrCorrectionRangeMaskDepthMin | 0.000000 |
CircGradBasedCorrCorrectionRangeMaskLumFeather | 0.500000 |
CircGradBasedCorrCorrectionRangeMaskLumMax | 1.000000 |
CircGradBasedCorrCorrectionRangeMaskLumMin | 0.000000 |
CircGradBasedCorrCorrectionRangeMaskType | 0 |
CircGradBasedCorrCorrectionRangeMaskVersion | +2 |
CircGradBasedCorrDefringe | 0.000000 |
CircGradBasedCorrExposure2012 (1) | 0.100000 |
CircGradBasedCorrExposure2012 | 0.025000 |
CircGradBasedCorrHighlights2012 | 0.000000 |
CircGradBasedCorrHue | 0.000000 |
CircGradBasedCorrLocalBlacks2012 (2) | 0.000000 |
CircGradBasedCorrLocalBlacks2012 | -0.039960 |
CircGradBasedCorrLocalDehaze (2) | 0.000000 |
CircGradBasedCorrLocalDehaze | 0.020000 |
CircGradBasedCorrLocalHue | 0.000000 |
CircGradBasedCorrLocalTexture (1) | 0.040000 |
CircGradBasedCorrLocalTexture (2) | 0.059830 |
CircGradBasedCorrLocalTexture | 0.076920 |
CircGradBasedCorrLocalWhites2012 (2) | 0.042740 |
CircGradBasedCorrLocalWhites2012 | 0.030000 |
CircGradBasedCorrLuminanceNoise (1) | 0.050000 |
CircGradBasedCorrLuminanceNoise (2) | 0.030000 |
CircGradBasedCorrLuminanceNoise | 0.025640 |
CircGradBasedCorrMaskAngle (1) | 0.000000 |
CircGradBasedCorrMaskAngle | 0.925342 |
CircGradBasedCorrMaskBottom (1) | 0.842073 |
CircGradBasedCorrMaskBottom (2) | 0.519912 |
CircGradBasedCorrMaskBottom | 0.496076 |
CircGradBasedCorrMaskFeather | +50 |
CircGradBasedCorrMaskFlipped | true |
CircGradBasedCorrMaskLeft (1) | 0.396036 |
CircGradBasedCorrMaskLeft (2) | 0.039524 |
CircGradBasedCorrMaskLeft | 0.756030 |
CircGradBasedCorrMaskMidpoint | +50 |
CircGradBasedCorrMaskRight (1) | 0.615189 |
CircGradBasedCorrMaskRight (2) | 0.275287 |
CircGradBasedCorrMaskRight | 0.935194 |
CircGradBasedCorrMaskRoundness | 0 |
CircGradBasedCorrMaskTop (1) | 0.288143 |
CircGradBasedCorrMaskTop (2) | 0.247272 |
CircGradBasedCorrMaskTop | 0.271999 |
CircGradBasedCorrMaskValue | 1.000000 |
CircGradBasedCorrMaskVersion | +2 |
CircGradBasedCorrMaskWhat | Mask/CircularGradient |
CircGradBasedCorrMoire | 0.000000 |
CircGradBasedCorrSaturation (1) | 0.050000 |
CircGradBasedCorrSaturation (3) | 0.040000 |
CircGradBasedCorrSaturation (5) | 0.042740 |
CircGradBasedCorrSaturation | 0.000000 |
CircGradBasedCorrShadows2012 (1) | 0.042740 |
CircGradBasedCorrShadows2012 | 0.230770 |
CircGradBasedCorrSharpness (1) | 0.010000 |
CircGradBasedCorrSharpness | 0.000000 |
CircGradBasedCorrTemperature | 0.000000 |
CircGradBasedCorrTint | 0.000000 |
CircGradBasedCorrWhat | Correction |
CircleOfConfusion | 0.020 mm |
Clarity2012 | -12 |
ColorComponents | 3 |
ColorNoiseReduction | 25 |
ColorNoiseReductionDetail | 50 |
ColorNoiseReductionSmoothness | 50 |
ColorSpace | sRGB |
ColorTemperature | 5600 |
ColorTransform | YCbCr |
Contrast | Normal |
Contrast2012 | +19 |
ConvertToGrayscale | False |
CreateDate (1) | 2012:09:24 17:21:05.90 |
CreateDate | 2012:09:24 17:21:05 |
CreatorTool | Adobe Photoshop Lightroom Classic 9.4 (Windows) |
CropAngle | 0.925342 |
CropBottom | 0.858078 |
CropConstrainToWarp | 0 |
CropLeft | 0.102555 |
CropRight | 0.913306 |
CropTop | 0.279193 |
CustomRendered | Normal |
DateCreated (1) | 2012:09:24 |
DateCreated | 2012:09:24 17:21:05.90 |
DateTimeOriginal | 2012:09:24 17:21:05 |
DefringeGreenAmount | 0 |
DefringeGreenHueHi | 60 |
DefringeGreenHueLo | 40 |
DefringePurpleAmount | 0 |
DefringePurpleHueHi | 70 |
DefringePurpleHueLo | 30 |
Dehaze | +15 |
DigitalZoomRatio | 1 |
DistortionCorrectionAlreadyApplied | True |
DOF | inf (32.66 m - inf) |
Exposure2012 | +0.10 |
ExposureCompensation | -4/3 |
ExposureMode | Manual |
ExposureProgram | Manual |
ExposureTime | 1/100 |
Flash | Off, Did not fire |
FNumber | 11.0 |
FocalLength | 85.0 mm |
FocalLength35efl | 85.0 mm (35 mm equivalent: 127.0 mm) |
FocalLengthIn35mmFormat | 127 mm |
Format | image/jpeg |
FOV | 16.1 deg |
GainControl | None |
GrainAmount | 0 |
GreenHue | 0 |
GreenSaturation | 0 |
HasCrop | True |
HasSettings | True |
Highlights2012 | -100 |
HueAdjustmentAqua | 0 |
HueAdjustmentBlue | 0 |
HueAdjustmentGreen | 0 |
HueAdjustmentMagenta | 0 |
HueAdjustmentOrange | -9 |
HueAdjustmentPurple | 0 |
HueAdjustmentRed | 0 |
HueAdjustmentYellow | -20 |
HyperfocalDistance | 32.66 m |
ImageHeight | 907 |
ImageNumber | 19363 |
ImageSize | 2000x907 |
ImageWidth | 2000 |
ISO | 100 |
LateralChromaticAberrationCorrectionAlreadyApplied | True |
Lens | 16.0-85.0 mm f/3.5-5.6 |
LensID (1) | 153 |
LensID | AF-S DX VR Zoom-Nikkor 16-85mm f/3.5-5.6G ED |
LensInfo | 16-85mm f/3.5-5.6 |
LensManualDistortionAmount | 0 |
LensModel | 16.0-85.0 mm f/3.5-5.6 |
LensProfileChromaticAberrationScale | 100 |
LensProfileDistortionScale | 100 |
LensProfileEnable | 1 |
LensProfileFilename | NIKON D90 (Nikon AF-S DX NIKKOR 16-85mm f3.5-5.6G ED VR) - RAW.lcp |
LensProfileIsEmbedded | False |
LensProfileName | Adobe (Nikon AF-S DX NIKKOR 16-85mm f/3.5-5.6G ED VR) |
LensProfileSetup | LensDefaults |
LensProfileVignettingScale | 100 |
LightSource | Unknown |
LightValue | 13.6 |
LookName | |
LuminanceAdjustmentAqua | -1 |
LuminanceAdjustmentBlue | -12 |
LuminanceAdjustmentGreen | 0 |
LuminanceAdjustmentMagenta | 0 |
LuminanceAdjustmentOrange | 0 |
LuminanceAdjustmentPurple | 0 |
LuminanceAdjustmentRed | 0 |
LuminanceAdjustmentYellow | +5 |
LuminanceNoiseReductionContrast | 5 |
LuminanceNoiseReductionDetail | 50 |
LuminanceSmoothing | 10 |
Make | NIKON CORPORATION |
MaxApertureValue | 5.7 |
Megapixels | 1.8 |
MeteringMode | Multi-segment |
Model | NIKON D7000 |
ModifyDate (1) | 2020:09:19 16:20:42+02:00 |
ModifyDate | 2020:09:19 16:20:42 |
OverrideLookVignette | True |
PaintCorrectionActive | true |
PaintCorrectionAmount | 1.000000 |
PaintCorrectionBrightness | 0.000000 |
PaintCorrectionClarity2012 | 0.000000 |
PaintCorrectionContrast2012 | 0.050000 |
PaintCorrectionCorrectionRangeMaskColorAmount | 0.500000 |
PaintCorrectionCorrectionRangeMaskDepthFeather | 0.500000 |
PaintCorrectionCorrectionRangeMaskDepthMax | 1.000000 |
PaintCorrectionCorrectionRangeMaskDepthMin | 0.000000 |
PaintCorrectionCorrectionRangeMaskLumFeather | 0.500000 |
PaintCorrectionCorrectionRangeMaskLumMax | 1.000000 |
PaintCorrectionCorrectionRangeMaskLumMin | 0.000000 |
PaintCorrectionCorrectionRangeMaskType | +2 |
PaintCorrectionCorrectionRangeMaskVersion | +2 |
PaintCorrectionDefringe | 0.000000 |
PaintCorrectionExposure2012 | 0.000000 |
PaintCorrectionHighlights2012 | 0.000000 |
PaintCorrectionHue | 0.000000 |
PaintCorrectionLocalBlacks2012 | 0.000000 |
PaintCorrectionLocalDehaze | 0.000000 |
PaintCorrectionLocalHue | 0.000000 |
PaintCorrectionLocalTexture | 0.094020 |
PaintCorrectionLocalWhites2012 | 0.000000 |
PaintCorrectionLuminanceNoise | 0.040000 |
PaintCorrectionMaskCenterWeight | 0.000000 |
PaintCorrectionMaskFlow | 1.000000 |
PaintCorrectionMaskRadius (1) | 0.047637 |
PaintCorrectionMaskRadius (10) | 0.047369 |
PaintCorrectionMaskRadius (11) | 0.047421 |
PaintCorrectionMaskRadius (12) | 0.048203 |
PaintCorrectionMaskRadius (13) | 0.014514 |
PaintCorrectionMaskRadius (16) | 0.004554 |
PaintCorrectionMaskRadius (2) | 0.048162 |
PaintCorrectionMaskRadius (20) | 0.004550 |
PaintCorrectionMaskRadius (21) | 0.004552 |
PaintCorrectionMaskRadius (24) | 0.004555 |
PaintCorrectionMaskRadius (25) | 0.004551 |
PaintCorrectionMaskRadius (3) | 0.047857 |
PaintCorrectionMaskRadius (4) | 0.047356 |
PaintCorrectionMaskRadius (5) | 0.047359 |
PaintCorrectionMaskRadius (6) | 0.048026 |
PaintCorrectionMaskRadius (8) | 0.047354 |
PaintCorrectionMaskRadius (9) | 0.047352 |
PaintCorrectionMaskRadius | 0.004553 |
PaintCorrectionMaskValue (7) | 1.000000 |
PaintCorrectionMaskValue | 0.000000 |
PaintCorrectionMaskWhat | Mask/Paint |
PaintCorrectionMoire | 0.000000 |
PaintCorrectionSaturation (1) | 0.020000 |
PaintCorrectionSaturation | 0.000000 |
PaintCorrectionShadows2012 | 0.247860 |
PaintCorrectionSharpness | 0.000000 |
PaintCorrectionTemperature | 0.145300 |
PaintCorrectionTint | 0.000000 |
PaintCorrectionWhat | Correction |
ParametricDarks | 0 |
ParametricHighlights | 0 |
ParametricHighlightSplit | 75 |
ParametricLights | 0 |
ParametricMidtoneSplit | 50 |
ParametricShadows | 0 |
ParametricShadowSplit | 25 |
PerspectiveAspect | 0 |
PerspectiveHorizontal | 0 |
PerspectiveRotate | 0.0 |
PerspectiveScale | 100 |
PerspectiveUpright | 0 |
PerspectiveVertical | 0 |
PerspectiveX | 0.00 |
PerspectiveY | 0.00 |
PostCropVignetteAmount | -20 |
PostCropVignetteFeather | 66 |
PostCropVignetteHighlightContrast | 0 |
PostCropVignetteMidpoint | 45 |
PostCropVignetteRoundness | +15 |
PostCropVignetteStyle | 1 |
PreservedFileName | _DSC9301.NEF |
ProcessVersion | 11.0 |
ProfileDescription | sRGB IEC61966-2.1 |
RangeMaskMapInfoRangeMaskMapInfoLabMax | 0.984787 0.515785 0.527367 |
RangeMaskMapInfoRangeMaskMapInfoLabMin | 0.000549 0.467277 0.445960 |
RangeMaskMapInfoRangeMaskMapInfoRGBMax | 0.865431 0.854246 0.847929 |
RangeMaskMapInfoRangeMaskMapInfoRGBMin | 0.002106 0.002472 0.002167 |
RawFileName | _DSC9301.NEF |
RedHue | 0 |
RedSaturation | 0 |
Saturation (1) | +20 |
Saturation | Normal |
SaturationAdjustmentAqua | +26 |
SaturationAdjustmentBlue | +40 |
SaturationAdjustmentGreen | 0 |
SaturationAdjustmentMagenta | 0 |
SaturationAdjustmentOrange | +47 |
SaturationAdjustmentPurple | 0 |
SaturationAdjustmentRed | 0 |
SaturationAdjustmentYellow | +9 |
ScaleFactor35efl | 1.5 |
SceneCaptureType | Standard |
SceneType | Directly photographed |
SensingMethod | One-chip color area |
SensitivityType | Recommended Exposure Index |
SerialNumber | 6116324 |
Shadows2012 | +95 |
ShadowTint | 0 |
SharpenDetail | 35 |
SharpenEdgeMasking | 20 |
SharpenRadius | +0.9 |
Sharpness (1) | 49 |
Sharpness | Normal |
ShutterSpeed | 1/100 |
ShutterSpeedValue | 1/100 |
Software | Adobe Photoshop Lightroom Classic 9.4 (Windows) |
SplitToningBalance | 0 |
SplitToningHighlightHue | 37 |
SplitToningHighlightSaturation | 0 |
SplitToningShadowHue | 216 |
SplitToningShadowSaturation | 4 |
SubjectDistanceRange | Unknown |
Texture | +10 |
Tint | +14 |
ToneCurve | 0, 0, 255, 255 |
ToneCurveBlue | 0, 0, 255, 255 |
ToneCurveGreen | 0, 0, 255, 255 |
ToneCurveName | Linear |
ToneCurveName2012 | Linear |
ToneCurvePV2012 | 0, 0, 255, 255 |
ToneCurvePV2012Blue | 0, 0, 255, 255 |
ToneCurvePV2012Green | 0, 0, 255, 255 |
ToneCurvePV2012Red | 0, 0, 255, 255 |
ToneCurveRed | 0, 0, 255, 255 |
ToneMapStrength | 0 |
Version | 12.4 |
Vibrance | +46 |
VignetteAmount | 0 |
VignetteCorrectionAlreadyApplied | True |
WhiteBalance (1) | Custom |
WhiteBalance | Auto |
Whites2012 | +42 |