Felt | Verdi |
AlreadyApplied | True |
Aperture | 1.8 |
ApertureValue | 1.8 |
ApproximateFocusDistance | 0.3 |
AutoLateralCA | 1 |
BitsPerSample | 8 |
Blacks2012 | -63 |
BlueHue | 0 |
BlueSaturation | 0 |
CameraProfile | Adobe Standard |
CFAPattern | [Red,Green][Green,Blue] |
CircleOfConfusion | 0.020 mm |
Clarity2012 | +67 |
ColorComponents | 3 |
ColorGradeBlending | 100 |
ColorGradeGlobalHue | 0 |
ColorGradeGlobalLum | 0 |
ColorGradeGlobalSat | 0 |
ColorGradeHighlightLum | +16 |
ColorGradeMidtoneHue | 215 |
ColorGradeMidtoneLum | +6 |
ColorGradeMidtoneSat | 7 |
ColorGradeShadowLum | +10 |
ColorNoiseReduction | 28 |
ColorNoiseReductionDetail | 67 |
ColorNoiseReductionSmoothness | 17 |
ColorSpace | sRGB |
ColorTemperature | 5850 |
ColorTransform | YCbCr |
CompatibleVersion | 234881024 |
Contrast | Normal |
Contrast2012 | 0 |
CreateDate (1) | 2022:08:30 08:27:52.70 |
CreateDate | 2022:08:30 08:27:52 |
CreatorTool | Adobe Photoshop Lightroom Classic 11.5 (Windows) |
CropAngle | 0 |
CropBottom | 0.85934 |
CropConstrainToWarp | 0 |
CropLeft | 0.143992 |
CropRight | 0.895192 |
CropTop | 0.15509 |
CustomRendered | Normal |
DateCreated (1) | 2022:08:30 |
DateCreated | 2022:08:30 08:27:52.70 |
DateTimeOriginal | 2022:08:30 08:27:52 |
DefringeGreenAmount | 0 |
DefringeGreenHueHi | 60 |
DefringeGreenHueLo | 40 |
DefringePurpleAmount | 0 |
DefringePurpleHueHi | 70 |
DefringePurpleHueLo | 30 |
Dehaze | +14 |
DigitalZoomRatio | 1 |
DOF | 0.005 m (0.298 - 0.302 m) |
Exposure2012 | -0.39 |
ExposureCompensation | 0 |
ExposureMode | Auto |
ExposureProgram | Aperture-priority AE |
ExposureTime | 1/200 |
Flash | Off, Did not fire |
FNumber | 1.8 |
FocalLength | 35.0 mm |
FocalLength35efl | 35.0 mm (35 mm equivalent: 52.0 mm) |
FocalLengthIn35mmFormat | 52 mm |
Format | image/jpeg |
FOV | 38.2 deg |
GainControl | High gain up |
GrainAmount | 0 |
GrainFrequency | 60 |
GrainSize | 48 |
GreenHue | 0 |
GreenSaturation | 0 |
HasCrop | True |
HasSettings | True |
Highlights2012 | +22 |
HueAdjustmentAqua | +9 |
HueAdjustmentBlue | +10 |
HueAdjustmentGreen | +9 |
HueAdjustmentMagenta | -3 |
HueAdjustmentOrange | -1 |
HueAdjustmentPurple | +1 |
HueAdjustmentRed | -11 |
HueAdjustmentYellow | -12 |
HyperfocalDistance | 33.65 m |
ImageHeight | 2188 |
ImageNumber | 47085 |
ImageSize | 3500x2188 |
ImageWidth | 3500 |
ISO | 1250 |
LateralChromaticAberrationCorrectionAlreadyApplied | True |
Lens | 35.0 mm f/1.8 |
LensID (1) | 159 |
LensID | AF-S DX Nikkor 35mm f/1.8G |
LensInfo | 35mm f/1.8 |
LensManualDistortionAmount | 0 |
LensModel | 35.0 mm f/1.8 |
LensProfileDistortionScale | 100 |
LensProfileEnable | 0 |
LensProfileFilename | NIKON D90 (Nikon AF-S DX NIKKOR 35mm f1.8G) - RAW.lcp |
LensProfileIsEmbedded | False |
LensProfileName | Adobe (Nikon AF-S DX NIKKOR 35mm f/1.8G) |
LensProfileSetup | LensDefaults |
LensProfileVignettingScale | 100 |
LightSource | Cloudy |
LightValue | 5.7 |
LookAmount | 1 |
LookGroup | Profiles |
LookName | Adobe Color |
LookParametersCameraProfile | Adobe Standard |
LookParametersConvertToGrayscale | False |
LookParametersLookTable | E1095149FDB39D7A057BAB208837E2E1 |
LookParametersProcessVersion | 11.0 |
LookParametersToneCurvePV2012 | 0, 0, 22, 16, 40, 35, 127, 127, 224, 230, 240, 246, 255, 255 |
LookParametersToneCurvePV2012Blue | 0, 0, 255, 255 |
LookParametersToneCurvePV2012Green | 0, 0, 255, 255 |
LookParametersToneCurvePV2012Red | 0, 0, 255, 255 |
LookParametersVersion | 14.5 |
LookSupportsAmount | false |
LookSupportsMonochrome | false |
LookSupportsOutputReferred | false |
LuminanceAdjustmentAqua | +14 |
LuminanceAdjustmentBlue | -6 |
LuminanceAdjustmentGreen | -30 |
LuminanceAdjustmentMagenta | +18 |
LuminanceAdjustmentOrange | +9 |
LuminanceAdjustmentPurple | +20 |
LuminanceAdjustmentRed | +10 |
LuminanceAdjustmentYellow | -25 |
LuminanceNoiseReductionContrast | 57 |
LuminanceNoiseReductionDetail | 45 |
LuminanceSmoothing | 72 |
Make | NIKON CORPORATION |
MaxApertureValue | 1.7 |
Megapixels | 7.7 |
MeteringMode | Spot |
Model | NIKON D7100 |
ModifyDate (1) | 2022:09:13 21:38:13+02:00 |
ModifyDate | 2022:09:13 21:38:13 |
OverrideLookVignette | True |
ParametricDarks | 0 |
ParametricHighlights | 0 |
ParametricHighlightSplit | 75 |
ParametricLights | 0 |
ParametricMidtoneSplit | 50 |
ParametricShadows | 0 |
ParametricShadowSplit | 25 |
PerspectiveAspect | 0 |
PerspectiveHorizontal | 0 |
PerspectiveRotate | 0.0 |
PerspectiveScale | 100 |
PerspectiveUpright | 0 |
PerspectiveVertical | 0 |
PerspectiveX | 0.00 |
PerspectiveY | 0.00 |
PostCropVignetteAmount | -39 |
PostCropVignetteFeather | 66 |
PostCropVignetteHighlightContrast | 0 |
PostCropVignetteMidpoint | 50 |
PostCropVignetteRoundness | 0 |
PostCropVignetteStyle | 1 |
PreservedFileName | _D719280.NEF |
ProcessVersion | 11.0 |
ProfileDescription | sRGB IEC61966-2.1 |
Rating | 5 |
RawFileName | _D719280.NEF |
RedHue | 0 |
RedSaturation | 0 |
Saturation (1) | 0 |
Saturation | Normal |
SaturationAdjustmentAqua | -14 |
SaturationAdjustmentBlue | -50 |
SaturationAdjustmentGreen | -8 |
SaturationAdjustmentMagenta | -15 |
SaturationAdjustmentOrange | +4 |
SaturationAdjustmentPurple | -42 |
SaturationAdjustmentRed | -15 |
SaturationAdjustmentYellow | +3 |
ScaleFactor35efl | 1.5 |
SceneCaptureType | Standard |
SceneType | Directly photographed |
SensingMethod | One-chip color area |
SensitivityType | Recommended Exposure Index |
SerialNumber | 4381026 |
Shadows2012 | +29 |
ShadowTint | 0 |
SharpenDetail | 25 |
SharpenEdgeMasking | 0 |
SharpenRadius | +1.0 |
Sharpness (1) | 12 |
Sharpness | Hard |
ShutterSpeed | 1/200 |
ShutterSpeedValue | 1/200 |
Software | Adobe Photoshop Lightroom Classic 11.5 (Windows) |
SplitToningBalance | 0 |
SplitToningHighlightHue | 210 |
SplitToningHighlightSaturation | 2 |
SplitToningShadowHue | 235 |
SplitToningShadowSaturation | 5 |
SubjectDistanceRange | Unknown |
Texture | +57 |
Tint | +3 |
ToneCurveName2012 | Custom |
ToneCurvePV2012 | 0, 26, 57, 53, 116, 113, 146, 144, 192, 187, 255, 250 |
ToneCurvePV2012Blue | 0, 0, 255, 255 |
ToneCurvePV2012Green | 0, 0, 255, 255 |
ToneCurvePV2012Red | 0, 0, 255, 255 |
Version | 14.5 |
Vibrance | +25 |
VignetteAmount | 0 |
WhiteBalance (1) | As Shot |
WhiteBalance | Manual |
Whites2012 | +35 |