Felt | Verdi |
AlreadyApplied | True |
Aperture | 8.0 |
ApertureValue | 8.0 |
BitsPerSample | 8 |
BlueHue | 0 |
BlueSaturation | 0 |
Brightness | +65 |
CameraProfile | ACR 4.4 |
ChromaticAberrationB | 0 |
ChromaticAberrationR | 0 |
CircleOfConfusion | 0.019 mm |
Clarity | 0 |
ColorComponents | 3 |
ColorNoiseReduction | 25 |
ColorTemperature | 5350 |
Contrast | +25 |
ConvertToGrayscale | False |
CreateDate (1) | 2009:01:10 15:14:55.57+01:00 |
CreateDate | 2009:01:10 15:14:55 |
CreatorTool | Adobe Photoshop Lightroom |
CropAngle | 0 |
CropBottom | 0.644788 |
CropHeight | 874 |
CropLeft | 0.155232 |
CropRight | 0.703972 |
CropTop | 0.337789 |
CropUnit | pixels |
CropWidth | 2344 |
CustomRendered | Normal |
DateTimeDigitized | 2009:01:10 15:14:55.57+01:00 |
DateTimeOriginal (1) | 2009:01:10 15:14:55.57+01:00 |
DateTimeOriginal | 2009:01:10 15:14:55 |
Defringe | 0 |
ExifImageHeight | 874 |
ExifImageWidth | 2344 |
Exposure | 0.00 |
ExposureCompensation | -2 |
ExposureMode | Auto |
ExposureProgram | Program AE |
ExposureTime | 1/250 |
FillLight | 15 |
Firmware | 1.0.4 |
Flash | Off, Did not fire |
FlashCompensation | 0 |
FlashFired | False |
FlashFunction | False |
FlashMode | Off |
FlashRedEyeMode | False |
FlashReturn | No return detection |
FNumber | 8.0 |
FocalLength | 18.0 mm |
FocalLength35efl | 18.0 mm (35 mm equivalent: 29.1 mm) |
FOV | 63.5 deg |
GradientBasedCorrActive | true |
GradientBasedCorrAmount | 1.000000 |
GradientBasedCorrBrightness | 0.000000 |
GradientBasedCorrClarity (1) | 0.179000 |
GradientBasedCorrClarity | 0.475000 |
GradientBasedCorrContrast | 0.000000 |
GradientBasedCorrExposure (1) | -0.300000 |
GradientBasedCorrExposure | 0.400000 |
GradientBasedCorrHue (1) | 50.000000 |
GradientBasedCorrHue | 215.000000 |
GradientBasedCorrMaskFullX (1) | 0.425055 |
GradientBasedCorrMaskFullX | 0.439353 |
GradientBasedCorrMaskFullY (1) | 0.286034 |
GradientBasedCorrMaskFullY | 0.506649 |
GradientBasedCorrMaskValue | 1.000000 |
GradientBasedCorrMaskWhat | Mask/Gradient |
GradientBasedCorrMaskZeroX (1) | 0.427881 |
GradientBasedCorrMaskZeroX | 0.437772 |
GradientBasedCorrMaskZeroY (1) | 0.619374 |
GradientBasedCorrMaskZeroY | 0.362660 |
GradientBasedCorrSaturation (1) | -0.007783 |
GradientBasedCorrSaturation (2) | 0.294000 |
GradientBasedCorrSaturation (3) | 0.000000 |
GradientBasedCorrSaturation | 0.635000 |
GradientBasedCorrSharpness (1) | 0.007783 |
GradientBasedCorrSharpness | 0.000000 |
GradientBasedCorrWhat | Correction |
GreenHue | 0 |
GreenSaturation | 0 |
HasCrop | True |
HasSettings | True |
HighlightRecovery | 0 |
HueAdjustmentAqua | 0 |
HueAdjustmentBlue | 0 |
HueAdjustmentGreen | 0 |
HueAdjustmentMagenta | 0 |
HueAdjustmentOrange | 0 |
HueAdjustmentPurple | 0 |
HueAdjustmentRed | 0 |
HueAdjustmentYellow | 0 |
HyperfocalDistance | 2.18 m |
ImageHeight | 874 |
ImageNumber | 0 |
ImageSize | 2344x874 |
ImageWidth | 2344 |
ISO | 100 |
Lens | 18-50mm |
LensInfo | 18-50mm f/? |
LightValue | 14.0 |
LuminanceAdjustmentAqua | 0 |
LuminanceAdjustmentBlue | 0 |
LuminanceAdjustmentGreen | 0 |
LuminanceAdjustmentMagenta | 0 |
LuminanceAdjustmentOrange | 0 |
LuminanceAdjustmentPurple | 0 |
LuminanceAdjustmentRed | 0 |
LuminanceAdjustmentYellow | 0 |
LuminanceSmoothing | 0 |
Make | Canon |
MaxApertureValue | 2.8 |
Megapixels | 2.0 |
MeteringMode | Multi-segment |
Model | Canon EOS 450D |
ModifyDate (1) | 2009:01:19 23:35:21+01:00 |
ModifyDate | 2009:01:19 23:35:21 |
ParametricDarks | 0 |
ParametricHighlights | 0 |
ParametricHighlightSplit | 75 |
ParametricLights | 0 |
ParametricMidtoneSplit | 50 |
ParametricShadows | 0 |
ParametricShadowSplit | 25 |
PostCropVignetteAmount | 0 |
ProfileDescription | sRGB IEC61966-2.1 |
RedHue | 0 |
RedSaturation | 0 |
Saturation | 0 |
SaturationAdjustmentAqua | 0 |
SaturationAdjustmentBlue | 0 |
SaturationAdjustmentGreen | 0 |
SaturationAdjustmentMagenta | 0 |
SaturationAdjustmentOrange | 0 |
SaturationAdjustmentPurple | 0 |
SaturationAdjustmentRed | 0 |
SaturationAdjustmentYellow | 0 |
ScaleFactor35efl | 1.6 |
SceneCaptureType | Standard |
SerialNumber | 680113337 |
Shadows | 10 |
ShadowTint | 0 |
SharpenDetail | 25 |
SharpenEdgeMasking | 0 |
SharpenRadius | +1.0 |
Sharpness | 25 |
ShutterSpeed | 1/250 |
ShutterSpeedValue | 1/250 |
SplitToningBalance | 0 |
SplitToningHighlightHue | 0 |
SplitToningHighlightSaturation | 0 |
SplitToningShadowHue | 0 |
SplitToningShadowSaturation | 0 |
Tint | +2 |
ToneCurve | 0, 0, 32, 22, 64, 56, 128, 128, 192, 196, 255, 255 |
ToneCurveName | Medium Contrast |
Version | 4.5 |
Vibrance | 0 |
VignetteAmount | 0 |
WhiteBalance (2) | As Shot |
WhiteBalance | Auto |