Felt | Verdi |
AlreadyApplied | True |
Aperture | 1.8 |
ApertureValue | 1.8 |
BitsPerSample | 8 |
BlueHue | 0 |
BlueSaturation | 0 |
Brightness | +25 |
CameraProfile | Embedded |
CFAPattern | [Green,Blue][Red,Green] |
ChromaticAberrationB | 0 |
ChromaticAberrationR | 0 |
CircleOfConfusion | 0.020 mm |
Clarity | 0 |
ColorComponents | 1 |
ColorNoiseReduction | 0 |
Contrast (2) | +30 |
Contrast | Normal |
ConvertToGrayscale | True |
CreateDate (1) | 2009:01:03 00:19:24.40+01:00 |
CreateDate | 2009:01:03 00:19:24 |
CreatorTool | Adobe Photoshop Lightroom |
CropAngle | -2.20478 |
CropBottom | 0.851812 |
CropHeight | 2210 |
CropLeft | 0 |
CropRight | 0.855353 |
CropTop | 0.04793 |
CropUnit | pixels |
CropWidth | 3229 |
CustomRendered | Normal |
DateTimeDigitized | 2009:01:03 00:19:24.40+01:00 |
DateTimeOriginal (1) | 2009:01:03 00:19:24.40+01:00 |
DateTimeOriginal | 2009:01:03 00:19:24 |
Defringe | 0 |
DigitalZoomRatio | 1 |
ExifImageHeight | 3229 |
ExifImageWidth | 2210 |
Exposure | +1.43 |
ExposureCompensation | 0 |
ExposureMode | Manual |
ExposureProgram | Manual |
ExposureTime | 1/30 |
FillLight | 75 |
Flash | No Flash |
FlashFired | False |
FlashFunction | False |
FlashMode | Unknown |
FlashRedEyeMode | False |
FlashReturn | No return detection |
FNumber | 1.8 |
FocalLength | 50.0 mm |
FocalLength35efl | 50.0 mm (35 mm equivalent: 75.0 mm) |
FocalLengthIn35mmFormat | 75 mm |
FOV | 27.0 deg |
GainControl | Low gain up |
GrayMixerAqua | -22 |
GrayMixerBlue | 0 |
GrayMixerGreen | -19 |
GrayMixerMagenta | +10 |
GrayMixerOrange | -5 |
GrayMixerPurple | +11 |
GrayMixerRed | +5 |
GrayMixerYellow | -9 |
GreenHue | 0 |
GreenSaturation | 0 |
HasCrop | True |
HasSettings | True |
HighlightRecovery | 30 |
HyperfocalDistance | 69.34 m |
ImageHeight | 3229 |
ImageNumber | 3965 |
ImageSize | 2210x3229 |
ImageWidth | 2210 |
IncrementalTemperature | 0 |
IncrementalTint | +10 |
ISO | 400 |
Lens | 50.0 mm f/1.8 |
LensInfo | 50mm f/1.8 |
LightSource | Unknown |
LightValue | 4.6 |
LuminanceSmoothing | 0 |
Make | NIKON CORPORATION |
MaxApertureValue | 1.7 |
Megapixels | 7.1 |
MeteringMode | Multi-segment |
Model | NIKON D60 |
ModifyDate (1) | 2009:01:05 19:17:32+01:00 |
ModifyDate | 2009:01:05 19:17:32 |
ParametricDarks | 0 |
ParametricHighlights | 0 |
ParametricHighlightSplit | 75 |
ParametricLights | 0 |
ParametricMidtoneSplit | 50 |
ParametricShadows | 0 |
ParametricShadowSplit | 25 |
PostCropVignetteAmount | 0 |
ProfileDescription | sRGB IEC61966-2.1 |
RatingPercent | 0 |
RedHue | 0 |
RedSaturation | 0 |
Saturation | Normal |
ScaleFactor35efl | 1.5 |
SceneCaptureType | Standard |
SceneType | Directly photographed |
SensingMethod | One-chip color area |
SerialNumber | 6207600 |
Shadows | 15 |
ShadowTint | 0 |
SharpenDetail | 25 |
SharpenEdgeMasking | 0 |
SharpenRadius | +1.0 |
Sharpness (2) | 0 |
Sharpness | Normal |
ShutterSpeed | 1/30 |
ShutterSpeedValue | 1/30 |
Software | Nikon Transfer 1.0 W |
SplitToningBalance | 0 |
SplitToningHighlightHue | 0 |
SplitToningHighlightSaturation | 0 |
SplitToningShadowHue | 0 |
SplitToningShadowSaturation | 0 |
SubjectDistanceRange | Unknown |
ToneCurve | 0, 0, 255, 255 |
ToneCurveName | Linear |
Version | 4.6 |
VignetteAmount | -100 |
VignetteMidpoint | 23 |
WhiteBalance (2) | Custom |
WhiteBalance | Auto |