Felt | Verdi |
AlreadyApplied | True |
Aperture | 8.0 |
ApertureValue | 8.0 |
Artist | Geir A Granviken |
BitsPerSample | 8 |
BlueHue | 0 |
BlueSaturation | 0 |
Brightness | +50 |
By-line | Geir A Granviken |
CameraProfile | Adobe Standard |
Caption-Abstract | Skumringstime i Drammen |
CaptionWriter | 6 |
ChromaticAberrationB | 0 |
ChromaticAberrationR | 0 |
CircleOfConfusion | 0.019 mm |
City | Røyken |
Clarity | 0 |
ColorComponents | 3 |
ColorNoiseReduction | 25 |
ColorSpace | Uncalibrated |
ColorTemperature | 6200 |
Contrast | +25 |
ConvertToGrayscale | False |
Copyright | © 2009 Geir A Granviken |
CopyrightNotice | © 2009 Geir A Granviken |
Country | Norway |
Country-PrimaryLocationCode | NO |
Country-PrimaryLocationName | Norway |
CountryCode | NO |
CreateDate (1) | 2009:08:31 21:12:05.3+1:00 |
CreateDate | 2009:08:31 21:12:05 |
Creator | Geir A Granviken |
CreatorTool | Adobe Photoshop Lightroom |
CustomRendered | Normal |
DateTimeDigitized | 2009:08:31 21:12:05.3+1:00 |
DateTimeOriginal (1) | 2009:08:31 21:12:05.3+1:00 |
DateTimeOriginal | 2009:08:31 21:12:05 |
Defringe | 0 |
Description | Skumringstime i Drammen |
ExifImageHeight | 565 |
ExifImageWidth | 848 |
Exposure | 0.00 |
ExposureCompensation | -1/3 |
ExposureMode | Auto |
ExposureProgram | Aperture-priority AE |
ExposureTime | 13 |
FillLight | 0 |
Firmware | 1.0.4 |
Flash | Off, Did not fire |
FlashCompensation | 0 |
FlashFired | False |
FlashFunction | False |
FlashMode | Off |
FlashRedEyeMode | False |
FlashReturn | No return detection |
FNumber | 8.0 |
FocalLength | 105.0 mm |
FocalLength35efl | 105.0 mm (35 mm equivalent: 169.6 mm) |
FOV | 12.1 deg |
GPSAltitude (1) | 13.3 m |
GPSAltitude | 13.3 m Above Sea Level |
GPSAltitudeRef | Above Sea Level |
GPSDateStamp | 2009:08:31 |
GPSDateTime (1) | 2009:08:31 19:10:53 |
GPSDateTime | 2009:08:31 20:10:53Z |
GPSLatitude (2) | 59 deg 41' 26.24" |
GPSLatitude | 59 deg 41' 26.24" N |
GPSLatitudeRef | North |
GPSLongitude (2) | 10 deg 23' 42.50" |
GPSLongitude | 10 deg 23' 42.50" E |
GPSLongitudeRef | East |
GPSMapDatum | WGS-84 |
GPSPosition | 59 deg 41' 26.24" N, 10 deg 23' 42.50" E |
GPSSpeed | 0 |
GPSSpeedRef | km/h |
GPSTimeStamp | 20:10:53 |
GPSTrack | 337 |
GPSTrackRef | True North |
GreenHue | 0 |
GreenSaturation | 0 |
HasCrop | False |
HasSettings | True |
Headline | |
HighlightRecovery | 14 |
HueAdjustmentAqua | 0 |
HueAdjustmentBlue | 0 |
HueAdjustmentGreen | 0 |
HueAdjustmentMagenta | 0 |
HueAdjustmentOrange | 0 |
HueAdjustmentPurple | 0 |
HueAdjustmentRed | 0 |
HueAdjustmentYellow | 0 |
HyperfocalDistance | 74.09 m |
ImageDescription | Skumringstime i Drammen |
ImageHeight | 565 |
ImageNumber | 0 |
ImageSize | 848x565 |
ImageWidth | 848 |
Instructions | |
ISO | 200 |
Lens | EF24-105mm f/4L IS USM |
LensInfo | 24-105mm f/? |
LightValue | 1.3 |
Location | Gjerdal |
LuminanceAdjustmentAqua | 0 |
LuminanceAdjustmentBlue | 0 |
LuminanceAdjustmentGreen | 0 |
LuminanceAdjustmentMagenta | 0 |
LuminanceAdjustmentOrange | 0 |
LuminanceAdjustmentPurple | 0 |
LuminanceAdjustmentRed | 0 |
LuminanceAdjustmentYellow | 0 |
LuminanceSmoothing | 25 |
Make | Canon |
MaxApertureValue | 4.0 |
Megapixels | 0.479 |
MeteringMode | Multi-segment |
Model | Canon EOS 450D |
ModifyDate (1) | 2009:09:10 11:54:20.0+1:00 |
ModifyDate | 2009:09:10 11:54:20 |
ObjectName | |
OwnerName | Geir A Granviken |
ParametricDarks | -5 |
ParametricHighlights | -67 |
ParametricHighlightSplit | 86 |
ParametricLights | +12 |
ParametricMidtoneSplit | 50 |
ParametricShadows | 0 |
ParametricShadowSplit | 25 |
PostCropVignetteAmount | 0 |
ProfileDescription | sRGB IEC61966-2.1 |
Province-State | Buskerud |
RedHue | 0 |
RedSaturation | 0 |
Rights | © 2009 Geir A Granviken |
Saturation | 0 |
SaturationAdjustmentAqua | 0 |
SaturationAdjustmentBlue | 0 |
SaturationAdjustmentGreen | 0 |
SaturationAdjustmentMagenta | 0 |
SaturationAdjustmentOrange | 0 |
SaturationAdjustmentPurple | 0 |
SaturationAdjustmentRed | 0 |
SaturationAdjustmentYellow | 0 |
ScaleFactor35efl | 1.6 |
SceneCaptureType | Standard |
SerialNumber | 680266845 |
Shadows | 25 |
ShadowTint | 0 |
SharpenDetail | 25 |
SharpenEdgeMasking | 0 |
SharpenRadius | +1.0 |
Sharpness | 25 |
ShutterSpeed | 13 |
ShutterSpeedValue | 13 |
Software | Adobe Photoshop Lightroom |
SpecialInstructions | |
SplitToningBalance | 0 |
SplitToningHighlightHue | 0 |
SplitToningHighlightSaturation | 0 |
SplitToningShadowHue | 0 |
SplitToningShadowSaturation | 0 |
State | Buskerud |
Sub-location | Gjerdal |
Tint | 0 |
Title | |
ToneCurve | 0, 0, 32, 22, 64, 56, 128, 128, 192, 196, 255, 255 |
ToneCurveName | Medium Contrast |
Urgency | Unknown () |
UserComment | |
Version | 5.3 |
Vibrance | 0 |
VignetteAmount | 0 |
WhiteBalance (2) | Custom |
WhiteBalance | Auto |
Writer-Editor | 6 |