Felt | Verdi |
AlreadyApplied | True |
Aperture | 7.1 |
ApertureValue | 7.1 |
BitsPerSample | 8 |
BlueHue | 0 |
BlueSaturation | 0 |
Brightness | 0 |
CameraProfile | Embedded |
ChromaticAberrationB | 0 |
ChromaticAberrationR | 0 |
Clarity | +100 |
ColorComponents | 3 |
ColorMode | RGB |
ColorNoiseReduction | 0 |
ColorSpace | Uncalibrated |
Contrast | +66 |
ConvertToGrayscale | False |
CreateDate (1) | 2009:11:14 14:29:54+01:00 |
CreateDate | 2009:11:14 14:29:54 |
CreatorTool | QuickTime 7.6.4 |
DateTimeDigitized | 2009:11:14 14:29:54+01:00 |
DateTimeOriginal (1) | 2009:11:14 14:29:54+01:00 |
DateTimeOriginal | 2009:11:14 14:29:54 |
Defringe | 0 |
ExifImageHeight | 2600 |
ExifImageWidth | 3884 |
Exposure | -1.05 |
ExposureCompensation | 0 |
ExposureProgram | Shutter speed priority AE |
ExposureTime | 1/250 |
FillLight | 0 |
Flash | Fired, Return not detected |
FlashFired | True |
FlashFunction | False |
FlashMode | Unknown |
FlashRedEyeMode | False |
FlashReturn | Return not detected |
FNumber | 7.1 |
FocalLength | 10.0 mm |
FocalLength35efl | 10.0 mm |
Format | image/jpeg |
GreenHue | 0 |
GreenSaturation | 0 |
HasCrop | False |
HasSettings | True |
HighlightRecovery | 0 |
HueAdjustmentAqua | 0 |
HueAdjustmentBlue | 0 |
HueAdjustmentGreen | 0 |
HueAdjustmentMagenta | 0 |
HueAdjustmentOrange | 0 |
HueAdjustmentPurple | 0 |
HueAdjustmentRed | 0 |
HueAdjustmentYellow | 0 |
ICCProfileName | Adobe RGB (1998) |
ImageHeight | 2600 |
ImageSize | 3884x2600 |
ImageWidth | 3884 |
IncrementalTemperature | 0 |
IncrementalTint | 0 |
ISO | 250 |
LightSource | Unknown |
LightValue | 12.3 |
LuminanceAdjustmentAqua | 0 |
LuminanceAdjustmentBlue | 0 |
LuminanceAdjustmentGreen | 0 |
LuminanceAdjustmentMagenta | 0 |
LuminanceAdjustmentOrange | 0 |
LuminanceAdjustmentPurple | 0 |
LuminanceAdjustmentRed | 0 |
LuminanceAdjustmentYellow | 0 |
LuminanceSmoothing | 0 |
Make | NIKON CORPORATION |
MaxApertureValue | 4.0 |
Megapixels | 10.1 |
MeteringMode | Multi-segment |
Model | NIKON D200 |
ModifyDate (1) | 2009:11:14 22:18:48+01:00 |
ModifyDate | 2009:11:14 22:18:48 |
Orientation | Horizontal (normal) |
ParametricDarks | 0 |
ParametricHighlights | 0 |
ParametricHighlightSplit | 75 |
ParametricLights | 0 |
ParametricMidtoneSplit | 50 |
ParametricShadows | 0 |
ParametricShadowSplit | 25 |
PostCropVignetteAmount | 0 |
ProfileDescription | Adobe RGB (1998) |
Rating | 0 |
RawFileName | _ASO0355.tif |
RedHue | 0 |
RedSaturation | 0 |
Saturation | +28 |
SaturationAdjustmentAqua | 0 |
SaturationAdjustmentBlue | 0 |
SaturationAdjustmentGreen | 0 |
SaturationAdjustmentMagenta | 0 |
SaturationAdjustmentOrange | 0 |
SaturationAdjustmentPurple | 0 |
SaturationAdjustmentRed | 0 |
SaturationAdjustmentYellow | 0 |
SensingMethod | One-chip color area |
Shadows | 0 |
ShadowTint | 0 |
SharpenDetail | 25 |
SharpenEdgeMasking | 0 |
SharpenRadius | +1.0 |
Sharpness | 0 |
ShutterSpeed | 1/250 |
ShutterSpeedValue | 1/250 |
Software | Adobe Photoshop CS4 Macintosh |
SplitToningBalance | 0 |
SplitToningHighlightHue | 0 |
SplitToningHighlightSaturation | 0 |
SplitToningShadowHue | 0 |
SplitToningShadowSaturation | 0 |
ToneCurve | 0, 0, 255, 255 |
ToneCurveName | Linear |
URL_List | |
Version | 5.5 |
Vibrance | -33 |
VignetteAmount | 0 |
WhiteBalance | As Shot |