Felt | Verdi |
AlreadyApplied | True |
Aperture | 5.6 |
ApertureValue | 5.6 |
BitsPerSample | 8 |
BlueHue | 0 |
BlueSaturation | 0 |
Brightness | +50 |
By-line | Ole T. J. Skogdal |
CameraProfile | Adobe Standard |
ChromaticAberrationB | 0 |
ChromaticAberrationR | 0 |
CircleOfConfusion | 0.018 mm |
Clarity | +40 |
ColorComponents | 3 |
ColorNoiseReduction | 100 |
ColorSpace | Uncalibrated |
ColorTemperature | 4450 |
Contrast | High |
ConvertToGrayscale | False |
Copyright | Ole T. J. Skogdal |
CopyrightFlag | True |
CopyrightNotice | Ole T. J. Skogdal |
CreateDate (1) | 2010:04:07 00:52:47.38+02:00 |
CreateDate | 2010:04:07 00:52:47 |
Creator | Ole T. J. Skogdal |
CreatorAddress | Ringvegen 450 |
CreatorCity | Trosmø |
CreatorCountry | Norway |
CreatorPostalCode | 9017 |
CreatorRegion | Troms |
CreatorTool | Adobe Photoshop Lightroom |
CreatorWorkEmail | oljosko@online.no |
CreatorWorkTelephone | +47 92265599 |
CropAngle | 0 |
CropBottom | 1 |
CropHeight | 2848 |
CropLeft | 0 |
CropRight | 0.932 |
CropTop | 0 |
CropUnit | pixels |
CropWidth | 3982 |
CustomRendered | Normal |
DateTimeDigitized | 2010:04:07 00:52:47.38+02:00 |
DateTimeOriginal (1) | 2010:04:07 00:52:47.38+02:00 |
DateTimeOriginal | 2010:04:07 00:52:47 |
Defringe | 0 |
ExifImageHeight | 2848 |
ExifImageWidth | 3982 |
Exposure | +0.66 |
ExposureCompensation | 0 |
ExposureMode | Manual |
ExposureProgram | Manual |
ExposureTime | 40 |
FillLight | 0 |
Firmware | 1.1.0 |
Flash | Off, Did not fire |
FlashCompensation | 0 |
FlashFired | False |
FlashFunction | False |
FlashMode | Off |
FlashRedEyeMode | False |
FlashReturn | No return detection |
FNumber | 5.6 |
FocalLength | 28.0 mm |
FocalLength35efl | 28.0 mm (35 mm equivalent: 47.4 mm) |
FOV | 41.6 deg |
GreenHue | 0 |
GreenSaturation | 0 |
HasCrop | True |
HasSettings | True |
HighlightRecovery | 0 |
HueAdjustmentAqua | 0 |
HueAdjustmentBlue | 0 |
HueAdjustmentGreen | 0 |
HueAdjustmentMagenta | 0 |
HueAdjustmentOrange | 0 |
HueAdjustmentPurple | 0 |
HueAdjustmentRed | 0 |
HueAdjustmentYellow | 0 |
HyperfocalDistance | 7.89 m |
ImageHeight (1) | 2848 |
ImageHeight | 3248 |
ImageNumber | 0 |
ImageSize | 4382x3248 |
ImageWidth (1) | 3982 |
ImageWidth | 4382 |
ISO | 400 |
Keywords | nordlys |
Lens | 28-200mm |
LensID (1) | 28 |
LensID | Tamron AF Aspherical 28-200mm f/3.8-5.6 |
LensInfo | 28-200mm f/? |
LightValue | -2.4 |
LuminanceAdjustmentAqua | 0 |
LuminanceAdjustmentBlue | +100 |
LuminanceAdjustmentGreen | +25 |
LuminanceAdjustmentMagenta | 0 |
LuminanceAdjustmentOrange | 0 |
LuminanceAdjustmentPurple | 0 |
LuminanceAdjustmentRed | 0 |
LuminanceAdjustmentYellow | -25 |
LuminanceSmoothing | 100 |
Make | Canon |
Marked | True |
MaxApertureValue | 3.8 |
Megapixels | 14.2 |
MeteringMode | Center-weighted average |
Model | Canon EOS 450D |
ModifyDate (1) | 2010:10:04 23:48:37+02:00 |
ModifyDate | 2010:10:04 23:48:37 |
ParametricDarks | +33 |
ParametricHighlights | 0 |
ParametricHighlightSplit | 75 |
ParametricLights | +100 |
ParametricMidtoneSplit | 50 |
ParametricShadows | 0 |
ParametricShadowSplit | 25 |
PostCropVignetteAmount | 0 |
ProfileDescription | Adobe RGB (1998) |
RedHue | 0 |
RedSaturation | 0 |
Rights | Ole T. J. Skogdal |
Saturation | Normal |
SaturationAdjustmentAqua | 0 |
SaturationAdjustmentBlue | +40 |
SaturationAdjustmentGreen | +40 |
SaturationAdjustmentMagenta | 0 |
SaturationAdjustmentOrange | +40 |
SaturationAdjustmentPurple | 0 |
SaturationAdjustmentRed | +40 |
SaturationAdjustmentYellow | +40 |
ScaleFactor35efl | 1.7 |
SceneCaptureType | Standard |
SerialNumber | 1880557473 |
Shadows | 5 |
ShadowTint | 0 |
SharpenDetail | 50 |
SharpenEdgeMasking | 40 |
SharpenRadius | +0.5 |
Sharpness | Hard |
ShutterSpeed | 40 |
ShutterSpeedValue | 40 |
SplitToningBalance | 0 |
SplitToningHighlightHue | 0 |
SplitToningHighlightSaturation | 0 |
SplitToningShadowHue | 0 |
SplitToningShadowSaturation | 0 |
Subject | nordlys |
Tint | +19 |
ToneCurve | 0, 0, 32, 22, 64, 56, 128, 128, 192, 196, 255, 255 |
ToneCurveName | Medium Contrast |
URL | http://www.lovdata.no/all/nl-19610512-002.html |
UsageTerms | Etter avtale |
Version | 5.7 |
Vibrance | 0 |
VignetteAmount | 0 |
WebStatement | http://www.lovdata.no/all/nl-19610512-002.html |
WhiteBalance | Auto |