Felt | Verdi |
2010-02-14T20:04:54+01:00 File C:\Users\alasdair\Pictures\Nikon D90\2010\2010-02-13\hdr\husfasder_1_gb.jpg saved
AlreadyApplied | True |
BitsPerSample | 8 |
BlueHue | 0 |
BlueSaturation | 0 |
Brightness | 0 |
CameraProfile | Embedded |
ChromaticAberrationB | 0 |
ChromaticAberrationR | 0 |
Clarity | +12 |
ColorComponents | 3 |
ColorMode | RGB |
ColorNoiseReduction | 0 |
ColorSpace | Uncalibrated |
Contrast | +6 |
ConvertToGrayscale | False |
Copyright (c) 1988-1996 Sam Leffler
Copyright (c) 1991-1996 Silicon Graphics, Inc. |
CreateDate | 2010:02:14 19:57:28+01:00 |
CreatorTool | ImgSource (IS 4.0.21.1), using LIBTIFF, Version 3.8.2
Defringe | 0 |
ExifImageHeight | 680 |
ExifImageWidth | 1024 |
Exposure | -0.30 |
FillLight | 4 |
Format | image/jpeg |
GreenHue | 0 |
GreenSaturation | 0 |
HasCrop | False |
HasSettings | True |
HighlightRecovery | 4 |
HueAdjustmentAqua | 0 |
HueAdjustmentBlue | 0 |
HueAdjustmentGreen | +11 |
HueAdjustmentMagenta | 0 |
HueAdjustmentOrange | -16 |
HueAdjustmentPurple | 0 |
HueAdjustmentRed | 0 |
HueAdjustmentYellow | 0 |
ICCProfileName | Adobe RGB (1998) |
ImageHeight | 680 |
ImageSize | 1024x680 |
ImageWidth | 1024 |
IncrementalTemperature | -6 |
IncrementalTint | 0 |
LuminanceAdjustmentAqua | -12 |
LuminanceAdjustmentBlue | +9 |
LuminanceAdjustmentGreen | -25 |
LuminanceAdjustmentMagenta | -17 |
LuminanceAdjustmentOrange | -17 |
LuminanceAdjustmentPurple | 0 |
LuminanceAdjustmentRed | 0 |
LuminanceAdjustmentYellow | 0 |
LuminanceSmoothing | 0 |
Megapixels | 0.696 |
ModifyDate (1) | 2010:02:14 20:04:54+01:00 |
ModifyDate | 2010:02:14 20:04:54 |
Orientation | Horizontal (normal) |
ParametricDarks | -9 |
ParametricHighlights | +18 |
ParametricHighlightSplit | 75 |
ParametricLights | +8 |
ParametricMidtoneSplit | 50 |
ParametricShadows | -9 |
ParametricShadowSplit | 25 |
PostCropVignetteAmount | 0 |
ProfileDescription | Adobe RGB (1998) |
Rating | 0 |
RawFileName | DSC_2886.tif |
RedHue | 0 |
RedSaturation | 0 |
Saturation | -6 |
SaturationAdjustmentAqua | 0 |
SaturationAdjustmentBlue | -15 |
SaturationAdjustmentGreen | +16 |
SaturationAdjustmentMagenta | 0 |
SaturationAdjustmentOrange | +13 |
SaturationAdjustmentPurple | 0 |
SaturationAdjustmentRed | +9 |
SaturationAdjustmentYellow | +11 |
Shadows | 4 |
ShadowTint | 0 |
SharpenDetail | 25 |
SharpenEdgeMasking | 0 |
SharpenRadius | +1.0 |
Sharpness | 0 |
Software | Adobe Photoshop CS4 Windows |
SplitToningBalance | 0 |
SplitToningHighlightHue | 0 |
SplitToningHighlightSaturation | 0 |
SplitToningShadowHue | 0 |
SplitToningShadowSaturation | 0 |
ToneCurve | 0, 0, 255, 255 |
ToneCurveName | Linear |
URL_List | |
Version | 5.5 |
Vibrance | +7 |
VignetteAmount | 0 |
WhiteBalance | Custom |