Felt | Verdi |
AlreadyApplied | True |
Aperture | 11.0 |
ApertureValue | 11.0 |
BitsPerSample | 8 |
BlueHue | 0 |
BlueSaturation | 0 |
Brightness | 0 |
CameraProfile | Adobe Standard |
CFAPattern | [Red,Green][Green,Blue] |
ChromaticAberrationB | 0 |
ChromaticAberrationR | 0 |
CircleOfConfusion | 0.020 mm |
Clarity | +45 |
ColorComponents | 3 |
ColorNoiseReduction | 25 |
ColorNoiseReductionDetail | 50 |
ColorTemperature | 5250 |
Contrast (1) | +40 |
Contrast | Normal |
ConvertToGrayscale | False |
CreateDate | 2011:06:06 12:55:44 |
CropAngle | -0.6 |
CropBottom | 0.961349 |
CropConstrainToWarp | 0 |
CropHeight | 2258 |
CropLeft | 0.041626 |
CropRight | 0.98991 |
CropTop | 0.034464 |
CropUnit | pixels |
CropWidth | 3400 |
CustomRendered | Normal |
DateTimeOriginal | 2011:06:06 12:55:44 |
Defringe | 0 |
DigitalZoomRatio | 1 |
DOF | inf (5.51 m - inf) |
Exposure | +0.45 |
ExposureCompensation | 0 |
ExposureMode | Auto |
ExposureProgram | Aperture-priority AE |
ExposureTime | 1/250 |
FillLight | 0 |
Flash | No Flash |
FNumber | 11.0 |
FocalLength | 35.0 mm |
FocalLength35efl | 35.0 mm (35 mm equivalent: 52.0 mm) |
FocalLengthIn35mmFormat | 52 mm |
FOV | 38.2 deg |
GainControl | None |
GrainAmount | 0 |
GreenHue | 0 |
GreenSaturation | 0 |
HasCrop | True |
HasSettings | True |
HighlightRecovery | 74 |
HueAdjustmentAqua | 0 |
HueAdjustmentBlue | 0 |
HueAdjustmentGreen | 0 |
HueAdjustmentMagenta | 0 |
HueAdjustmentOrange | 0 |
HueAdjustmentPurple | 0 |
HueAdjustmentRed | 0 |
HueAdjustmentYellow | 0 |
HyperfocalDistance | 5.51 m |
ImageHeight | 2258 |
ImageSize | 3400x2258 |
ImageWidth | 3400 |
ISO | 200 |
LensInfo | 18-50mm f/2.8 |
LensManualDistortionAmount | 0 |
LensModel | 18.0-50.0 mm f/2.8 |
LensProfileChromaticAberrationScale | 100 |
LensProfileDistortionScale | 100 |
LensProfileEnable | 1 |
LensProfileFilename | NIKON CORPORATION (Sigma_18-50mm_F2.8_EX_DC_MACRO_HSM ) - RAW.lcp |
LensProfileName | Adobe (SIGMA 18-50mm F2.8 EX DC MACRO / HSM, NIKON CORPORATION) |
LensProfileSetup | LensDefaults |
LensProfileVignettingScale | 100 |
LightSource | Unknown |
LightValue | 13.9 |
LuminanceAdjustmentAqua | 0 |
LuminanceAdjustmentBlue | 0 |
LuminanceAdjustmentGreen | 0 |
LuminanceAdjustmentMagenta | 0 |
LuminanceAdjustmentOrange | 0 |
LuminanceAdjustmentPurple | 0 |
LuminanceAdjustmentRed | -64 |
LuminanceAdjustmentYellow | 0 |
LuminanceSmoothing | 0 |
Make | NIKON CORPORATION |
MaxApertureValue | 2.8 |
Megapixels | 7.7 |
MeteringMode | Multi-segment |
Model | NIKON D300S |
ModifyDate | 2011:07:02 18:29:00 |
PaintCorrectionActive | true |
PaintCorrectionAmount | 1.000000 |
PaintCorrectionBrightness | 0.000000 |
PaintCorrectionClarity (1) | 0.000000 |
PaintCorrectionClarity | 0.171000 |
PaintCorrectionContrast | 0.000000 |
PaintCorrectionExposure (1) | 0.044540 |
PaintCorrectionExposure (2) | 0.070000 |
PaintCorrectionExposure (3) | 0.025000 |
PaintCorrectionExposure | 0.000000 |
PaintCorrectionHue | 240.000000 |
PaintCorrectionMaskCenterWeight (5) | 0.008337 |
PaintCorrectionMaskCenterWeight | 0.000000 |
PaintCorrectionMaskFlow (5) | 0.552000 |
PaintCorrectionMaskFlow | 1.000000 |
PaintCorrectionMaskRadius (1) | 0.104117 |
PaintCorrectionMaskRadius (10) | 0.039817 |
PaintCorrectionMaskRadius (11) | 0.127986 |
PaintCorrectionMaskRadius (2) | 0.119779 |
PaintCorrectionMaskRadius (3) | 0.119970 |
PaintCorrectionMaskRadius (4) | 0.014149 |
PaintCorrectionMaskRadius (5) | 0.109395 |
PaintCorrectionMaskRadius (6) | 0.067129 |
PaintCorrectionMaskRadius (7) | 0.033333 |
PaintCorrectionMaskRadius (8) | 0.059960 |
PaintCorrectionMaskRadius (9) | 0.039627 |
PaintCorrectionMaskRadius | 0.128109 |
PaintCorrectionMaskValue (5) | 0.000000 |
PaintCorrectionMaskValue | 1.000000 |
PaintCorrectionMaskWhat | Mask/Paint |
PaintCorrectionSaturation | 0.000000 |
PaintCorrectionSharpness | 0.000000 |
PaintCorrectionWhat | Correction |
ParametricDarks | -9 |
ParametricHighlights | +24 |
ParametricHighlightSplit | 75 |
ParametricLights | +9 |
ParametricMidtoneSplit | 50 |
ParametricShadows | -19 |
ParametricShadowSplit | 25 |
PerspectiveHorizontal | 0 |
PerspectiveRotate | 0.0 |
PerspectiveScale | 100 |
PerspectiveVertical | 0 |
PostCropVignetteAmount | 0 |
ProcessVersion | 5.7 |
ProfileDescription | sRGB IEC61966-2.1 |
RedHue | 0 |
RedSaturation | 0 |
Saturation (1) | 0 |
Saturation | Normal |
SaturationAdjustmentAqua | 0 |
SaturationAdjustmentBlue | 0 |
SaturationAdjustmentGreen | +41 |
SaturationAdjustmentMagenta | 0 |
SaturationAdjustmentOrange | 0 |
SaturationAdjustmentPurple | 0 |
SaturationAdjustmentRed | +9 |
SaturationAdjustmentYellow | 0 |
ScaleFactor35efl | 1.5 |
SceneCaptureType | Standard |
SceneType | Directly photographed |
SensingMethod | One-chip color area |
SensitivityType | Unknown |
SerialNumber | 6016607 |
Shadows | 5 |
ShadowTint | 0 |
SharpenDetail | 25 |
SharpenEdgeMasking | 0 |
SharpenRadius | +1.0 |
Sharpness (1) | 25 |
Sharpness | Normal |
ShutterSpeed | 1/250 |
ShutterSpeedValue | 1/250 |
Software | Ver.1.00 |
SplitToningBalance | 0 |
SplitToningHighlightHue | 0 |
SplitToningHighlightSaturation | 0 |
SplitToningShadowHue | 0 |
SplitToningShadowSaturation | 0 |
SubjectDistance | 4294967295 m |
SubjectDistanceRange | Unknown |
Tint | +2 |
ToneCurve | 0, 0, 32, 22, 64, 56, 128, 128, 192, 196, 255, 255 |
ToneCurveName | Medium Contrast |
Version | 6.2 |
Vibrance | +43 |
VignetteAmount | 0 |
WhiteBalance (1) | As Shot |
WhiteBalance | Auto |