Felt | Verdi |
AEBBracketValue | 0 |
AlreadyApplied | True |
Aperture | 1.4 |
ApertureValue | 1.4 |
ApproximateFocusDistance | 1.9 |
Artist | Helge Brandal |
AutoExposureBracketing | Off |
AutoISO | 100 |
AutoLateralCA | 0 |
BaseISO | 0 |
BitsPerSample | 8 |
Blacks2012 | -29 |
BlueHue | 0 |
BlueSaturation | 0 |
BulbDuration | 0 |
CameraProfile | Adobe Standard |
CameraType | n/a |
CanonExposureMode | Unknown (-1) |
CanonFirmwareVersion | |
CanonFlashMode | n/a |
CanonImageSize | n/a |
CanonImageType | |
Clarity2012 | +48 |
ColorComponents | 3 |
ColorMode | RGB |
ColorNoiseReduction | 25 |
ColorNoiseReductionDetail | 50 |
ColorSpace | sRGB |
ColorTemperature | 5950 |
ContinuousDrive | Unknown (-1) |
Contrast2012 | -25 |
ControlMode | n/a |
ConvertToGrayscale | False |
CreateDate (1) | 2012:08:13 20:07:29.00 |
CreateDate | 2012:08:13 20:07:29 |
Creator | Helge Brandal |
CreatorTool | Digital Photo Professional |
CropAngle | 0 |
CropBottom | 1 |
CropConstrainToWarp | 0 |
CropHeight | 3840 |
CropLeft | 0.044362 |
CropRight | 0.83549 |
CropTop | 0 |
CropUnit | pixels |
CropWidth | 4557 |
CustomRendered | Normal |
DateCreated | 2012:08:13 20:07:29 |
DateTimeOriginal | 2012:08:13 20:07:29 |
DefringeGreenAmount | 0 |
DefringeGreenHueHi | 60 |
DefringeGreenHueLo | 40 |
DefringePurpleAmount | 0 |
DefringePurpleHueHi | 70 |
DefringePurpleHueLo | 30 |
DigitalZoom | None |
DriveMode | Continuous Shooting |
EasyMode | Unknown (-1) |
ExifImageHeight | 700 |
ExifImageWidth | 786 |
Exposure2012 | -0.12 |
ExposureCompensation | 0 |
ExposureMode | Auto |
ExposureTime | 1/2500 |
FileNumber | 0 |
Firmware | 1.1.2 |
Flash | Off, Did not fire |
FlashBits | (none) |
FlashCompensation | 0 |
FlashExposureComp | 0 |
FlashGuideNumber | 0 |
FNumber | 1.4 |
FocalUnits | 32/mm |
FocusMode | Single |
FocusRange | Not Known |
Format | image/tiff |
GradientBasedCorrActive | true |
GradientBasedCorrAmount | 1.000000 |
GradientBasedCorrBrightness | 0.000000 |
GradientBasedCorrClarity2012 | 0.000000 |
GradientBasedCorrContrast2012 | 0.000000 |
GradientBasedCorrDefringe | 0.000000 |
GradientBasedCorrExposure2012 (1) | -0.357250 |
GradientBasedCorrExposure2012 | -0.262000 |
GradientBasedCorrHighlights2012 | 0.000000 |
GradientBasedCorrHue | 6.000000 |
GradientBasedCorrLuminanceNoise | 0.000000 |
GradientBasedCorrMaskFullX (1) | 0.918562 |
GradientBasedCorrMaskFullX | -0.007394 |
GradientBasedCorrMaskFullY (1) | 0.005347 |
GradientBasedCorrMaskFullY | -0.022191 |
GradientBasedCorrMaskValue | 1.000000 |
GradientBasedCorrMaskWhat | Mask/Gradient |
GradientBasedCorrMaskZeroX (1) | 0.517743 |
GradientBasedCorrMaskZeroX | 0.416732 |
GradientBasedCorrMaskZeroY (1) | 0.729952 |
GradientBasedCorrMaskZeroY | 0.895868 |
GradientBasedCorrMoire | 0.000000 |
GradientBasedCorrSaturation | 0.000000 |
GradientBasedCorrShadows2012 | 0.250000 |
GradientBasedCorrSharpness | 0.000000 |
GradientBasedCorrTemperature | 0.023810 |
GradientBasedCorrTint | 0.000000 |
GradientBasedCorrWhat | Correction |
GrainAmount | 0 |
GreenHue | 0 |
GreenSaturation | 0 |
HasCrop | True |
HasSettings | True |
Highlights2012 | -40 |
HueAdjustmentAqua | 0 |
HueAdjustmentBlue | 0 |
HueAdjustmentGreen | 0 |
HueAdjustmentMagenta | 0 |
HueAdjustmentOrange | 0 |
HueAdjustmentPurple | 0 |
HueAdjustmentRed | 0 |
HueAdjustmentYellow | 0 |
ICCProfileName | Adobe RGB (1998) |
ImageHeight | 700 |
ImageNumber | 0 |
ImageSize | 786x700 |
ImageWidth | 786 |
ISO | 0 |
Lens (1) | 85mm |
Lens | 0.0 mm |
Lens35efl | 0.0 mm |
LensID (1) | 169 |
LensID | n/a |
LensInfo (1) | 85mm f/? |
LensInfo | 85mm f/0 |
LensManualDistortionAmount | 0 |
LensModel | 85mm |
LensProfileChromaticAberrationScale | 100 |
LensProfileDistortionScale | 100 |
LensProfileEnable | 0 |
LensProfileFilename | Canon (SIGMA 85mm F1.4 EX DG HSM) - RAW.lcp |
LensProfileName | Adobe (SIGMA 85mm F1.4 EX DG HSM, Canon) |
LensProfileSetup | LensDefaults |
LensProfileVignettingScale | 100 |
LensSerialNumber | 0000000000 |
LensType | n/a |
LuminanceAdjustmentAqua | 0 |
LuminanceAdjustmentBlue | 0 |
LuminanceAdjustmentGreen | 0 |
LuminanceAdjustmentMagenta | 0 |
LuminanceAdjustmentOrange | 0 |
LuminanceAdjustmentPurple | 0 |
LuminanceAdjustmentRed | 0 |
LuminanceAdjustmentYellow | 0 |
LuminanceNoiseReductionContrast | 0 |
LuminanceNoiseReductionDetail | 50 |
LuminanceSmoothing | 12 |
MacroMode | Unknown (0) |
Make | Canon |
ManualFlashOutput | n/a |
MaxFocalLength | 0 mm |
MeasuredEV | 5.00 |
Megapixels | 0.550 |
MeteringMode | Unknown (-1) |
MinFocalLength | 0 mm |
Model | Canon EOS 5D Mark III |
ModifyDate (1) | 2012:09:15 12:29:04+02:00 |
ModifyDate | 2012:08:13 20:07:29 |
NDFilter | n/a |
OpticalZoomCode | n/a |
Orientation | Horizontal (normal) |
OwnerName | Helge Brandal |
ParametricDarks | -7 |
ParametricHighlights | +63 |
ParametricHighlightSplit | 75 |
ParametricLights | +7 |
ParametricMidtoneSplit | 50 |
ParametricShadows | +1 |
ParametricShadowSplit | 25 |
PerspectiveHorizontal | 0 |
PerspectiveRotate | 0.0 |
PerspectiveScale | 100 |
PerspectiveVertical | 0 |
PostCropVignetteAmount | 0 |
ProcessVersion | 6.7 |
ProfileDescription | sRGB v1.31 (Canon) |
Quality | Fine |
RedHue | 0 |
RedSaturation | 0 |
RelatedImageHeight | 700 |
RelatedImageWidth | 786 |
Saturation | -19 |
SaturationAdjustmentAqua | 0 |
SaturationAdjustmentBlue | 0 |
SaturationAdjustmentGreen | 0 |
SaturationAdjustmentMagenta | 0 |
SaturationAdjustmentOrange | 0 |
SaturationAdjustmentPurple | 0 |
SaturationAdjustmentRed | 0 |
SaturationAdjustmentYellow | 0 |
SceneCaptureType | Standard |
SelfTimer | Off |
SequenceNumber | 0 |
SerialNumber | 043023000829 |
Shadows2012 | +62 |
ShadowTint | 0 |
SharpenDetail | 25 |
SharpenEdgeMasking | 0 |
SharpenRadius | +1.0 |
Sharpness | 57 |
ShootingMode | Unknown (-1) |
ShutterSpeed | 1/2500 |
ShutterSpeedValue | 1/2500 |
SlowShutter | None |
Software | Digital Photo Professional |
SplitToningBalance | 0 |
SplitToningHighlightHue | 126 |
SplitToningHighlightSaturation | 0 |
SplitToningShadowHue | 0 |
SplitToningShadowSaturation | 0 |
SRAWQuality | n/a |
TargetAperture | 1.4 |
TargetExposureTime | 1/2489 |
Tint | +25 |
ToneCurveName2012 | Linear |
ToneCurvePV2012 | 0, 0, 255, 255 |
ToneCurvePV2012Blue | 0, 0, 255, 255 |
ToneCurvePV2012Green | 0, 0, 255, 255 |
ToneCurvePV2012Red | 0, 0, 255, 255 |
UserComment | |
Version | 7.1 |
Vibrance | +57 |
VignetteAmount | 0 |
WhiteBalance (1) | Auto |
WhiteBalance (2) | As Shot |
WhiteBalance | Unknown (-1) |
Whites2012 | -90 |
ZoomSourceWidth | 0 |
ZoomTargetWidth | 0 |