Felt | Verdi |
AlreadyApplied | True |
Aperture | 11.0 |
ApertureValue | 11.0 |
ApproximateFocusDistance | 4294967295 |
BitsPerSample | 8 |
BlueHue | 0 |
BlueSaturation | 0 |
Brightness | +50 |
CameraProfile | ACR 4.6 |
CFAPattern | [Green,Blue][Red,Green] |
ChromaticAberrationB | 0 |
ChromaticAberrationR | 0 |
CircleOfConfusion | 0.020 mm |
Clarity | +81 |
ColorComponents | 3 |
ColorNoiseReduction | 23 |
ColorNoiseReductionDetail | 32 |
ColorTemperature | 5550 |
Contrast (2) | +25 |
Contrast | Normal |
ConvertToGrayscale | False |
CreateDate (1) | 2012:12:26 14:10:45.00+01:00 |
CreateDate | 2012:12:26 14:10:45 |
CreatorTool | Adobe Photoshop Lightroom 3.3 |
CropAngle | 0 |
CropBottom | 0.770308 |
CropConstrainToWarp | 0 |
CropHeight | 2114 |
CropLeft | 0.016744 |
CropRight | 0.996279 |
CropTop | 0.028011 |
CropUnit | pixels |
CropWidth | 4200 |
CustomRendered | Normal |
DateTimeDigitized | 2012:12:26 14:10:45.00+01:00 |
DateTimeOriginal (1) | 2012:12:26 14:10:45.00+01:00 |
DateTimeOriginal | 2012:12:26 14:10:45 |
Defringe | 0 |
DigitalZoomRatio | 1 |
DOF | inf (17.45 m - inf) |
ExifImageHeight | 2114 |
ExifImageWidth | 4200 |
Exposure | +0.51 |
ExposureCompensation | 0 |
ExposureMode | Manual |
ExposureProgram | Manual |
ExposureTime | 1/160 |
FillLight | 17 |
Flash | No Flash |
FlashFired | False |
FlashFunction | False |
FlashMode | Unknown |
FlashRedEyeMode | False |
FlashReturn | No return detection |
FNumber | 11.0 |
FocalLength | 62.0 mm |
FocalLength35efl | 62.0 mm (35 mm equivalent: 93.0 mm) |
FocalLengthIn35mmFormat | 93 mm |
FOV | 21.9 deg |
GainControl | None |
GrainAmount | 0 |
GreenHue | 0 |
GreenSaturation | 0 |
HasCrop | True |
HasSettings | True |
HighlightRecovery | 34 |
HueAdjustmentAqua | 0 |
HueAdjustmentBlue | 0 |
HueAdjustmentGreen | 0 |
HueAdjustmentMagenta | 0 |
HueAdjustmentOrange | 0 |
HueAdjustmentPurple | 0 |
HueAdjustmentRed | 0 |
HueAdjustmentYellow | 0 |
HyperfocalDistance | 17.45 m |
ImageHeight | 2114 |
ImageNumber | 16286 |
ImageSize | 4200x2114 |
ImageWidth | 4200 |
ISO | 100 |
Lens | 18.0-105.0 mm f/3.5-5.6 |
LensID (1) | 158 |
LensID | AF-S DX VR Zoom-Nikkor 18-105mm f/3.5-5.6G ED |
LensInfo | 18-105mm f/3.5-5.6 |
LensManualDistortionAmount | +3 |
LensModel | 18.0-105.0 mm f/3.5-5.6 |
LensProfileEnable | 0 |
LensProfileSetup | LensDefaults |
LightSource | Unknown |
LightValue | 14.2 |
LuminanceAdjustmentAqua | 0 |
LuminanceAdjustmentBlue | 0 |
LuminanceAdjustmentGreen | 0 |
LuminanceAdjustmentMagenta | 0 |
LuminanceAdjustmentOrange | 0 |
LuminanceAdjustmentPurple | 0 |
LuminanceAdjustmentRed | 0 |
LuminanceAdjustmentYellow | 0 |
LuminanceNoiseReductionContrast | 18 |
LuminanceNoiseReductionDetail | 28 |
LuminanceSmoothing | 9 |
Make | NIKON CORPORATION |
MaxApertureValue | 5.3 |
Megapixels | 8.9 |
MeteringMode | Multi-segment |
Model | NIKON D90 |
ModifyDate (1) | 2013:03:21 19:40:14+01:00 |
ModifyDate | 2013:03:21 19:40:14 |
PaintCorrectionActive | true |
PaintCorrectionAmount | 1.000000 |
PaintCorrectionBrightness (2) | 0.005000 |
PaintCorrectionBrightness (4) | 0.463000 |
PaintCorrectionBrightness | 0.000000 |
PaintCorrectionClarity (1) | 0.488000 |
PaintCorrectionClarity (3) | 0.707000 |
PaintCorrectionClarity (4) | 0.000000 |
PaintCorrectionClarity | -1.000000 |
PaintCorrectionContrast (2) | -0.317000 |
PaintCorrectionContrast (4) | 0.000000 |
PaintCorrectionContrast | 0.098000 |
PaintCorrectionExposure (2) | -0.047500 |
PaintCorrectionExposure (3) | 0.075000 |
PaintCorrectionExposure (4) | 0.000000 |
PaintCorrectionExposure | -0.072500 |
PaintCorrectionHue (2) | 7.000000 |
PaintCorrectionHue | 0.000000 |
PaintCorrectionMaskCenterWeight | 0.000000 |
PaintCorrectionMaskFlow | 1.000000 |
PaintCorrectionMaskRadius (1) | 0.032229 |
PaintCorrectionMaskRadius (11) | 0.050505 |
PaintCorrectionMaskRadius (12) | 0.141949 |
PaintCorrectionMaskRadius (13) | 0.068533 |
PaintCorrectionMaskRadius (14) | 0.068462 |
PaintCorrectionMaskRadius (15) | 0.179788 |
PaintCorrectionMaskRadius (16) | 0.039365 |
PaintCorrectionMaskRadius (18) | 0.039360 |
PaintCorrectionMaskRadius (19) | 0.039380 |
PaintCorrectionMaskRadius (2) | 0.031828 |
PaintCorrectionMaskRadius (20) | 0.039371 |
PaintCorrectionMaskRadius (21) | 0.006196 |
PaintCorrectionMaskRadius (22) | 0.074421 |
PaintCorrectionMaskRadius (23) | 0.074203 |
PaintCorrectionMaskRadius (24) | 0.088455 |
PaintCorrectionMaskRadius (25) | 0.087052 |
PaintCorrectionMaskRadius (26) | 0.088326 |
PaintCorrectionMaskRadius (27) | 0.087362 |
PaintCorrectionMaskRadius (28) | 0.087503 |
PaintCorrectionMaskRadius (29) | 0.056864 |
PaintCorrectionMaskRadius (3) | 0.032236 |
PaintCorrectionMaskRadius (4) | 0.031994 |
PaintCorrectionMaskRadius (7) | 0.004000 |
PaintCorrectionMaskRadius (9) | 0.004001 |
PaintCorrectionMaskRadius | 0.028010 |
PaintCorrectionMaskValue | 0.690000 |
PaintCorrectionMaskWhat | Mask/Paint |
PaintCorrectionSaturation (4) | 0.730000 |
PaintCorrectionSaturation | 0.000000 |
PaintCorrectionSharpness (2) | -0.366000 |
PaintCorrectionSharpness | 0.317000 |
PaintCorrectionWhat | Correction |
ParametricDarks | +9 |
ParametricHighlights | -1 |
ParametricHighlightSplit | 75 |
ParametricLights | -31 |
ParametricMidtoneSplit | 50 |
ParametricShadows | -33 |
ParametricShadowSplit | 25 |
PerspectiveHorizontal | 0 |
PerspectiveRotate | +0.3 |
PerspectiveScale | 100 |
PerspectiveVertical | 0 |
PostCropVignetteAmount | 0 |
ProcessVersion | 5.7 |
ProfileDescription | sRGB IEC61966-2.1 |
RedHue | 0 |
RedSaturation | 0 |
Saturation (2) | 0 |
Saturation | Normal |
SaturationAdjustmentAqua | 0 |
SaturationAdjustmentBlue | 0 |
SaturationAdjustmentGreen | 0 |
SaturationAdjustmentMagenta | 0 |
SaturationAdjustmentOrange | 0 |
SaturationAdjustmentPurple | 0 |
SaturationAdjustmentRed | 0 |
SaturationAdjustmentYellow | 0 |
ScaleFactor35efl | 1.5 |
SceneCaptureType | Standard |
SceneType | Directly photographed |
SensingMethod | One-chip color area |
SensitivityType | Unknown |
SerialNumber | 6576081 |
Shadows | 16 |
ShadowTint | 0 |
SharpenDetail | 41 |
SharpenEdgeMasking | 31 |
SharpenRadius | +1.0 |
Sharpness (2) | 103 |
Sharpness | Normal |
ShutterSpeed | 1/160 |
ShutterSpeedValue | 1/160 |
Software | Ver.1.00 |
SplitToningBalance | 0 |
SplitToningHighlightHue | 0 |
SplitToningHighlightSaturation | 0 |
SplitToningShadowHue | 0 |
SplitToningShadowSaturation | 0 |
SubjectDistance | 4294967295 m |
SubjectDistanceRange | Unknown |
Tint | -10 |
ToneCurve | 0, 0, 32, 22, 64, 56, 128, 128, 192, 196, 255, 255 |
ToneCurveName | Medium Contrast |
Version | 6.3 |
Vibrance | 0 |
VignetteAmount | 0 |
WhiteBalance (2) | As Shot |
WhiteBalance | Auto |