Felt | Verdi |
AlreadyApplied | True |
Aperture | 11.0 |
ApertureValue | 11.0 |
ApproximateFocusDistance | 4294967295 |
AutoLateralCA | 1 |
BitsPerSample (1) | 16 16 16 16 16 16 16 16 16 16 16 16 16 16 16 16 16 16 |
BitsPerSample | 8 |
Blacks2012 | +7 |
BlueHue | 0 |
BlueSaturation | 0 |
CameraProfile | Adobe Standard |
CFAPattern | [Red,Green][Green,Blue] |
CircleOfConfusion | 0.030 mm |
Clarity2012 | +4 |
ColorComponents | 3 |
ColorMode | RGB |
ColorNoiseReduction | 38 |
ColorNoiseReductionDetail | 50 |
ColorSpace | Uncalibrated |
ColorTemperature | 9000 |
Contrast | Normal |
Contrast2012 | 0 |
ConvertToGrayscale | False |
CreateDate (1) | 2013:04:30 21:52 |
CreateDate | 2013:04:30 21:52:00 |
CreatorTool | Adobe Photoshop CS6 (Windows) |
CropAngle | 0 |
CropBottom | 1 |
CropConstrainToWarp | 0 |
CropLeft | 0 |
CropRight | 1 |
CropTop | 0 |
CustomRendered | Normal |
DateCreated (1) | 2013:04:30 |
DateCreated | 2013:04:30 21:52:00.033 |
DateTimeOriginal | 2013:04:30 21:52:00 |
DefringeGreenAmount | 0 |
DefringeGreenHueHi | 60 |
DefringeGreenHueLo | 40 |
DefringePurpleAmount | 0 |
DefringePurpleHueHi | 70 |
DefringePurpleHueLo | 30 |
DigitalZoomRatio | 1 |
DOF | inf (0.77 m - inf) |
ExifImageHeight | 1200 |
ExifImageWidth | 1804 |
Exposure2012 | 0.00 |
ExposureCompensation | 0 |
ExposureMode | Manual |
ExposureProgram | Manual |
ExposureTime | 5 |
Flash | No Flash |
FNumber | 11.0 |
FocalLength | 16.0 mm |
FocalLength35efl | 16.0 mm (35 mm equivalent: 16.0 mm) |
FocalLengthIn35mmFormat | 16 mm |
Format | image/jpeg |
FOV | 96.7 deg |
GainControl | None |
GrainAmount | 0 |
GreenHue | 0 |
GreenSaturation | 0 |
HasCrop | True |
HasSettings | True |
Highlights2012 | -44 |
HueAdjustmentAqua | +17 |
HueAdjustmentBlue | +8 |
HueAdjustmentGreen | 0 |
HueAdjustmentMagenta | 0 |
HueAdjustmentOrange | -13 |
HueAdjustmentPurple | 0 |
HueAdjustmentRed | -11 |
HueAdjustmentYellow | 0 |
HyperfocalDistance | 0.77 m |
ICCProfileName | ProPhoto RGB |
ImageHeight (1) | 2832 |
ImageHeight | 1200 |
ImageNumber | 6796 |
ImageSize | 1804x1200 |
ImageWidth (1) | 4256 |
ImageWidth | 1804 |
ISO | 200 |
Label | |
Lens | 16.0-35.0 mm f/4.0 |
LensID (1) | 163 |
LensID | AF-S Nikkor 16-35mm f/4G ED VR |
LensInfo | 16-35mm f/4 |
LensManualDistortionAmount | 0 |
LensModel | 16.0-35.0 mm f/4.0 |
LensProfileChromaticAberrationScale | 100 |
LensProfileDistortionScale | 100 |
LensProfileEnable | 1 |
LensProfileFilename | NIKON D3X (Nikon AF-S NIKKOR 16-35mm f4G ED VR) - RAW.lcp |
LensProfileName | Adobe (Nikon AF-S NIKKOR 16-35mm f/4G ED VR) |
LensProfileSetup | LensDefaults |
LensProfileVignettingScale | 100 |
LightSource | Unknown |
LightValue | 3.6 |
LuminanceAdjustmentAqua | -9 |
LuminanceAdjustmentBlue | -2 |
LuminanceAdjustmentGreen | 0 |
LuminanceAdjustmentMagenta | 0 |
LuminanceAdjustmentOrange | 0 |
LuminanceAdjustmentPurple | 0 |
LuminanceAdjustmentRed | +13 |
LuminanceAdjustmentYellow | 0 |
LuminanceNoiseReductionContrast | 0 |
LuminanceNoiseReductionDetail | 50 |
LuminanceSmoothing | 25 |
Make | NIKON CORPORATION |
MaxApertureValue | 4.0 |
Megapixels | 2.2 |
MeteringMode | Multi-segment |
Model | NIKON D700 |
ModifyDate (1) | 2013:05:01 14:30:27+02:00 |
ModifyDate | 2013:05:01 14:30:27 |
Orientation | Horizontal (normal) |
ParametricDarks | 0 |
ParametricHighlights | 0 |
ParametricHighlightSplit | 75 |
ParametricLights | 0 |
ParametricMidtoneSplit | 50 |
ParametricShadows | 0 |
ParametricShadowSplit | 25 |
PerspectiveHorizontal | 0 |
PerspectiveRotate | 0.0 |
PerspectiveScale | 100 |
PerspectiveVertical | 0 |
PhotometricInterpretation | RGB |
PlanarConfiguration | Chunky |
PostCropVignetteAmount | 0 |
ProcessVersion | 6.7 |
ProfileDescription | ProPhoto RGB |
Rating | 0 |
RatingPercent | 0 |
RawFileName | DSC_6763.NEF |
RedHue | 0 |
RedSaturation | 0 |
Saturation (1) | +4 |
Saturation | Normal |
SaturationAdjustmentAqua | +5 |
SaturationAdjustmentBlue | +4 |
SaturationAdjustmentGreen | 0 |
SaturationAdjustmentMagenta | 0 |
SaturationAdjustmentOrange | 0 |
SaturationAdjustmentPurple | 0 |
SaturationAdjustmentRed | +23 |
SaturationAdjustmentYellow | 0 |
ScaleFactor35efl | 1.0 |
SceneCaptureType | Standard |
SceneType | Directly photographed |
SensingMethod | One-chip color area |
SerialNumber | 2534259 |
Shadows2012 | +45 |
ShadowTint | 0 |
SharpenDetail | 25 |
SharpenEdgeMasking | 39 |
SharpenRadius | +1.0 |
Sharpness (1) | 29 |
Sharpness | Normal |
ShutterSpeed | 5 |
ShutterSpeedValue | 5 |
Software | Adobe Photoshop CS6 (Windows) |
SplitToningBalance | 0 |
SplitToningHighlightHue | 0 |
SplitToningHighlightSaturation | 0 |
SplitToningShadowHue | 0 |
SplitToningShadowSaturation | 0 |
SubjectDistanceRange | Unknown |
Tint | -7 |
ToneCurveName2012 | Linear |
ToneCurvePV2012 | 0, 0, 255, 255 |
ToneCurvePV2012Blue | 0, 0, 255, 255 |
ToneCurvePV2012Green | 0, 0, 255, 255 |
ToneCurvePV2012Red | 0, 0, 255, 255 |
Transformation | Perspective |
URL_List | |
Version | 7.4 |
Vibrance | +45 |
VignetteAmount | 0 |
VirtualFocalLength | 0.444444 |
VirtualImageXCenter | 0.500000 |
VirtualImageYCenter | 0.332707 |
WhiteBalance (1) | Custom |
WhiteBalance | Auto |
Whites2012 | -8 |