Felt | Verdi |
AlreadyApplied | True |
Aperture | 20.0 |
ApertureValue | 20.0 |
ApproximateFocusDistance | 4294967295 |
Artist | Anders Blom |
AutoLateralCA | 0 |
BitsPerSample | 8 |
Blacks2012 | -44 |
BlueHue | 0 |
BlueSaturation | 0 |
Brightness | +50 |
By-line | Anders Blom |
CameraProfile | Adobe Standard |
CircleOfConfusion | 0.019 mm |
Clarity | 0 |
Clarity2012 | +41 |
ColorComponents | 3 |
ColorNoiseReduction | 25 |
ColorNoiseReductionDetail | 50 |
ColorTemperature | 4299 |
Contrast | +25 |
Contrast2012 | +20 |
ConvertToGrayscale | False |
Copyright | Anders Blom |
CopyrightNotice | Anders Blom |
CreateDate (1) | 2013:09:11 14:27:20.42 |
CreateDate | 2013:09:11 14:27:20 |
Creator | Anders Blom |
CreatorTool | Adobe Photoshop Lightroom 4.0 (Windows) |
CropAngle | -0.515742 |
CropBottom | 0.861341 |
CropConstrainToWarp | 0 |
CropHeight | 582 |
CropLeft | 0.003701 |
CropRight | 0.995547 |
CropTop | 0.013323 |
CropUnit | pixels |
CropWidth | 1000 |
CustomRendered | Normal |
DateCreated (1) | 2013:09:11 |
DateCreated | 2013:09:11 14:27:20.42 |
DateTimeOriginal | 2013:09:11 14:27:20 |
Defringe | 0 |
DOF | inf (25.32 m - inf) |
Exposure | 0.00 |
Exposure2012 | +1.22 |
ExposureCompensation | +2/3 |
ExposureMode | Auto |
ExposureProgram | Aperture-priority AE |
ExposureTime | 1/13 |
FillLight | 0 |
Firmware | 1.0.7 |
Flash | Off, Did not fire |
FlashCompensation | 0 |
FNumber | 20.0 |
FocalLength | 98.0 mm |
FocalLength35efl | 98.0 mm (35 mm equivalent: 155.3 mm) |
Format | image/jpeg |
FOV | 13.2 deg |
GradientBasedCorrActive | true |
GradientBasedCorrAmount | 1.000000 |
GradientBasedCorrBrightness | 0.000000 |
GradientBasedCorrClarity2012 | 0.000000 |
GradientBasedCorrContrast2012 | 0.043480 |
GradientBasedCorrExposure2012 | -0.195750 |
GradientBasedCorrHighlights2012 | 0.000000 |
GradientBasedCorrHue | 358.000000 |
GradientBasedCorrLuminanceNoise | 0.000000 |
GradientBasedCorrMaskFullX | 0.598911 |
GradientBasedCorrMaskFullY | 0.029973 |
GradientBasedCorrMaskValue | 1.000000 |
GradientBasedCorrMaskWhat | Mask/Gradient |
GradientBasedCorrMaskZeroX | 0.586207 |
GradientBasedCorrMaskZeroY | 0.444142 |
GradientBasedCorrMoire | 0.000000 |
GradientBasedCorrSaturation | 0.000000 |
GradientBasedCorrShadows2012 | 0.000000 |
GradientBasedCorrSharpness | 0.000000 |
GradientBasedCorrTemperature | -0.434780 |
GradientBasedCorrTint | 0.195650 |
GradientBasedCorrWhat | Correction |
GrainAmount | 0 |
GreenHue | 0 |
GreenSaturation | 0 |
HasCrop | True |
HasSettings | True |
HighlightRecovery | 0 |
Highlights2012 | -68 |
HueAdjustmentAqua | 0 |
HueAdjustmentBlue | 0 |
HueAdjustmentGreen | 0 |
HueAdjustmentMagenta | 0 |
HueAdjustmentOrange | -11 |
HueAdjustmentPurple | 0 |
HueAdjustmentRed | -2 |
HueAdjustmentYellow | 0 |
HyperfocalDistance | 25.32 m |
ImageHeight | 582 |
ImageNumber | 0 |
ImageSize | 1000x582 |
ImageWidth | 1000 |
ISO | 100 |
Lens | EF70-200mm f/4L USM |
LensID (1) | 186 |
LensID | Canon EF 70-200mm f/4L USM |
LensInfo | 70-200mm f/? |
LensManualDistortionAmount | 0 |
LensModel | EF70-200mm f/4L USM |
LensProfileChromaticAberrationScale | 100 |
LensProfileDistortionScale | 100 |
LensProfileEnable | 1 |
LensProfileFilename | Canon EOS 5D Mark II (Canon EF 70-200mm f4L USM) - RAW.lcp |
LensProfileName | Adobe (Canon EF 70-200mm f/4 L USM) |
LensProfileSetup | LensDefaults |
LensProfileVignettingScale | 100 |
LightValue | 12.3 |
LuminanceAdjustmentAqua | 0 |
LuminanceAdjustmentBlue | 0 |
LuminanceAdjustmentGreen | 0 |
LuminanceAdjustmentMagenta | 0 |
LuminanceAdjustmentOrange | 0 |
LuminanceAdjustmentPurple | 0 |
LuminanceAdjustmentRed | 0 |
LuminanceAdjustmentYellow | 0 |
LuminanceSmoothing | 0 |
Make | Canon |
MaxApertureValue | 4.0 |
Megapixels | 0.582 |
MeteringMode | Spot |
Model | Canon EOS 50D |
ModifyDate (1) | 2013:10:16 21:23:37+02:00 |
ModifyDate | 2013:10:16 21:23:37 |
OwnerName | Anders Blom |
ParametricDarks | -17 |
ParametricHighlights | 0 |
ParametricHighlightSplit | 75 |
ParametricLights | +28 |
ParametricMidtoneSplit | 50 |
ParametricShadows | 0 |
ParametricShadowSplit | 25 |
PerspectiveHorizontal | 0 |
PerspectiveRotate | 0.0 |
PerspectiveScale | 100 |
PerspectiveVertical | 0 |
PostCropVignetteAmount | -13 |
PostCropVignetteFeather | 50 |
PostCropVignetteHighlightContrast | 0 |
PostCropVignetteMidpoint | 50 |
PostCropVignetteRoundness | 0 |
PostCropVignetteStyle | 1 |
ProcessVersion | 6.7 |
ProfileDescription | sRGB IEC61966-2.1 |
RedHue | 0 |
RedSaturation | 0 |
Rights | Anders Blom |
Saturation | -46 |
SaturationAdjustmentAqua | 0 |
SaturationAdjustmentBlue | 0 |
SaturationAdjustmentGreen | 0 |
SaturationAdjustmentMagenta | 0 |
SaturationAdjustmentOrange | 0 |
SaturationAdjustmentPurple | 0 |
SaturationAdjustmentRed | 0 |
SaturationAdjustmentYellow | 0 |
ScaleFactor35efl | 1.6 |
SceneCaptureType | Standard |
SerialNumber | 1960703561 |
Shadows | 5 |
Shadows2012 | +17 |
ShadowTint | 0 |
SharpenDetail | 25 |
SharpenEdgeMasking | 0 |
SharpenRadius | +1.0 |
Sharpness | 25 |
ShutterSpeed | 1/13 |
ShutterSpeedValue | 1/13 |
Software | Adobe Photoshop Lightroom 4.0 (Windows) |
SplitToningBalance | -10 |
SplitToningHighlightHue | 44 |
SplitToningHighlightSaturation | 16 |
SplitToningShadowHue | 48 |
SplitToningShadowSaturation | 4 |
Tint | +5 |
ToneCurve | 0, 0, 255, 255 |
ToneCurveBlue | 0, 0, 255, 255 |
ToneCurveGreen | 0, 0, 255, 255 |
ToneCurveName | Linear |
ToneCurveName2012 | Linear |
ToneCurvePV2012 | 0, 0, 255, 255 |
ToneCurvePV2012Blue | 0, 0, 255, 255 |
ToneCurvePV2012Green | 0, 0, 255, 255 |
ToneCurvePV2012Red | 0, 0, 255, 255 |
ToneCurveRed | 0, 0, 255, 255 |
Version | 7.0 |
Vibrance | +17 |
VignetteAmount | 0 |
WhiteBalance (1) | Custom |
WhiteBalance | Auto |
Whites2012 | -100 |